BEGIN:VCALENDAR
VERSION:2.0
PRODID:-//VegMichigan - ECPv5.16.1.1//NONSGML v1.0//EN
CALSCALE:GREGORIAN
METHOD:PUBLISH
X-WR-CALNAME:VegMichigan
X-ORIGINAL-URL:https://vegmichigan.org
X-WR-CALDESC:Events for VegMichigan
REFRESH-INTERVAL;VALUE=DURATION:PT1H
X-Robots-Tag:noindex
X-PUBLISHED-TTL:PT1H
BEGIN:VTIMEZONE
TZID:America/New_York
BEGIN:DAYLIGHT
TZOFFSETFROM:-0500
TZOFFSETTO:-0400
TZNAME:EDT
DTSTART:20230312T070000
END:DAYLIGHT
BEGIN:STANDARD
TZOFFSETFROM:-0400
TZOFFSETTO:-0500
TZNAME:EST
DTSTART:20231105T060000
END:STANDARD
END:VTIMEZONE
BEGIN:VEVENT
DTSTART;TZID=America/New_York:20230708T090000
DTEND;TZID=America/New_York:20230708T120000
DTSTAMP:20260423T064354
CREATED:20230518T203019Z
LAST-MODIFIED:20230614T150312Z
UID:11438-1688806800-1688817600@vegmichigan.org
SUMMARY:VOLUNTEER MEETUP AT THE FARM AT TRINITY HEALTH
DESCRIPTION:VOLUNTEER MEETUP AT THE FARM AT TRINITY HEALTH \nJoin us for a fun few hours of volunteering outside at The Farm at Trinity Health. \nLocated at – 5557 McAuley Dr\, Ypsilanti\, MI 48197 \nPlease wear proper shoes and clothes for working outside on a farm. We highly recommend you bring a water bottle\, a hat for extra sun protection\, and sunscreen. \nPotential tasks will include weeding\, harvesting produce\, and possibly moving mulch or dirt to fill raised beds. \nRSVP Required – Please RSVP on our Ann Arbor Meetup group. This event is limited to 25 volunteers so please keep your RSVP up to date. \nNote: Please do not bring children under the age of 14. If you want to bring younger children\, email olivia@vegmichigan.org ASAP and I will see if they can be accommodated.
URL:https://vegmichigan.org/event/volunteer-meetup-at-the-farm-st-joes-2/
ATTACH;FMTTYPE=image/jpeg:https://vegmichigan.org/wp-content/uploads/2023/05/Resized952022071695111228-2.jpg
END:VEVENT
END:VCALENDAR