BEGIN:VCALENDAR
VERSION:2.0
PRODID:-//VegMichigan - ECPv5.16.1.1//NONSGML v1.0//EN
CALSCALE:GREGORIAN
METHOD:PUBLISH
X-ORIGINAL-URL:https://vegmichigan.org
X-WR-CALDESC:Events for VegMichigan
REFRESH-INTERVAL;VALUE=DURATION:PT1H
X-Robots-Tag:noindex
X-PUBLISHED-TTL:PT1H
BEGIN:VTIMEZONE
TZID:America/New_York
BEGIN:DAYLIGHT
TZOFFSETFROM:-0500
TZOFFSETTO:-0400
TZNAME:EDT
DTSTART:20230312T070000
END:DAYLIGHT
BEGIN:STANDARD
TZOFFSETFROM:-0400
TZOFFSETTO:-0500
TZNAME:EST
DTSTART:20231105T060000
END:STANDARD
END:VTIMEZONE
BEGIN:VEVENT
DTSTART;TZID=America/New_York:20230712T180000
DTEND;TZID=America/New_York:20230712T193000
DTSTAMP:20260423T064443
CREATED:20230629T192522Z
LAST-MODIFIED:20230701T150530Z
UID:11749-1689184800-1689190200@vegmichigan.org
SUMMARY:POLICY TALK PART 1: CHANGING RACIAL INEQUALITY IN FOOD AND FARM SYSTEMS
DESCRIPTION:POLICY TALK PART 1: CHANGING RACIAL INEQUALITY IN FOOD AND FARM SYSTEMS \nWe are partnering with For Our Future Michigan and Michiganders for a Just Farming System to offer this two-part series on the Farm Bill. Part 1 is a a panel discussion focused on the lack of Black representation and farmer support for community food access. Panelists include Senator Debbie Stabenow\, Dr. Jasmine Jackson Co-Executive Director of the National Black Food & Justice Alliance\, Asha McElroy\, Youth Representative from Detroit Food Policy Council\, and Malik Yakini\, Co-Founder and Executive Director of Detroit Black Community Food Security Network.  \nRegister to attend Part 1 \n 
URL:https://vegmichigan.org/event/policy-talk-part-1-changing-racial-inequality-in-food-and-farm-systems/
ATTACH;FMTTYPE=image/png:https://vegmichigan.org/wp-content/uploads/2023/06/Farm-Bill-Series-July-12.png
END:VEVENT
END:VCALENDAR