BEGIN:VCALENDAR
VERSION:2.0
PRODID:-//VegMichigan - ECPv5.16.1.1//NONSGML v1.0//EN
CALSCALE:GREGORIAN
METHOD:PUBLISH
X-ORIGINAL-URL:https://vegmichigan.org
X-WR-CALDESC:Events for VegMichigan
REFRESH-INTERVAL;VALUE=DURATION:PT1H
X-Robots-Tag:noindex
X-PUBLISHED-TTL:PT1H
BEGIN:VTIMEZONE
TZID:America/New_York
BEGIN:DAYLIGHT
TZOFFSETFROM:-0500
TZOFFSETTO:-0400
TZNAME:EDT
DTSTART:20230312T070000
END:DAYLIGHT
BEGIN:STANDARD
TZOFFSETFROM:-0400
TZOFFSETTO:-0500
TZNAME:EST
DTSTART:20231105T060000
END:STANDARD
END:VTIMEZONE
BEGIN:VEVENT
DTSTART;TZID=America/New_York:20230713T190000
DTEND;TZID=America/New_York:20230713T200000
DTSTAMP:20260423T064443
CREATED:20230629T195037Z
LAST-MODIFIED:20230713T204359Z
UID:11758-1689274800-1689278400@vegmichigan.org
SUMMARY:PLANT-BASED COOKING MADE EASY AND DELICIOUS
DESCRIPTION:PLANT-BASED COOKING MADE EASY AND DELICIOUS \nAre you curious about plant-based eating but not sure what to prepare? Chantal Singer\, RDN\, will remove the mystery from making super nutritious\, delicious\, and\, most importantly\, EASY creations. \nThis presentation is hosted in partnership with the Troy Library. \nChantal Singer is a Registered Dietitian Nutritionist for Trinity Health’s Michigan Heart & Vascular Institute teaching plant-based eating and lifestyle medicine. Chantal is very passionate about plant-based eating for human health\, planetary health\, and animal welfare. \nPlant-Based Cooking Made Easy and Delicious Recipes  – https://docs.google.com/document/d/1KvrwEjLcw9ax7lxHiPJgvfoMaRc7w5nSHAIpySm7ghM/edit?usp=sharing  \n  \nYou are invited to a Zoom webinar.\nWhen: Jul 13\, 2023 07:00 PM Eastern Time (US and Canada)\nTopic: Plant-based Cooking Made Easy and Delicious \nPlease click the link below to join the webinar:\nhttps://us06web.zoom.us/j/89677232124?pwd=N2U0ZGpob3Y2RVlYOURXUVRlSHg0QT09 \nPasscode: 834016\nOr One tap mobile :\nUS: +13017158592\,\,89677232124#\,\,\,\,*834016#  or +13052241968\,\,89677232124#\,\,\,\,*834016#\nOr Telephone:\nDial(for higher quality\, dial a number based on your current location):\nUS: +1 301 715 8592  or +1 305 224 1968  or +1 309 205 3325  or +1 312 626 6799  or +1 646 931 3860  or +1 929 436 2866  or +1 386 347 5053  or +1 507 473 4847  or +1 564 217 2000  or +1 669 444 9171  or +1 669 900 6833  or +1 689 278 1000  or +1 719 359 4580  or +1 253 205 0468  or +1 253 215 8782  or +1 346 248 7799  or +1 360 209 5623\nWebinar ID: 896 7723 2124\nPasscode: 834016\nInternational numbers available: https://us06web.zoom.us/u/keuflE01ZE
URL:https://vegmichigan.org/event/plant-based-cooking-made-easy-and-delicious-4/
ATTACH;FMTTYPE=image/jpeg:https://vegmichigan.org/wp-content/uploads/2023/06/pexels-alexander-grey-1196516-scaled.jpg
END:VEVENT
END:VCALENDAR