BEGIN:VCALENDAR
VERSION:2.0
PRODID:-//VegMichigan - ECPv5.16.1.1//NONSGML v1.0//EN
CALSCALE:GREGORIAN
METHOD:PUBLISH
X-ORIGINAL-URL:https://vegmichigan.org
X-WR-CALDESC:Events for VegMichigan
REFRESH-INTERVAL;VALUE=DURATION:PT1H
X-Robots-Tag:noindex
X-PUBLISHED-TTL:PT1H
BEGIN:VTIMEZONE
TZID:America/New_York
BEGIN:DAYLIGHT
TZOFFSETFROM:-0500
TZOFFSETTO:-0400
TZNAME:EDT
DTSTART:20230312T070000
END:DAYLIGHT
BEGIN:STANDARD
TZOFFSETFROM:-0400
TZOFFSETTO:-0500
TZNAME:EST
DTSTART:20231105T060000
END:STANDARD
END:VTIMEZONE
BEGIN:VEVENT
DTSTART;TZID=America/New_York:20230719T180000
DTEND;TZID=America/New_York:20230719T193000
DTSTAMP:20260423T064347
CREATED:20230629T193649Z
LAST-MODIFIED:20230717T135938Z
UID:11753-1689789600-1689795000@vegmichigan.org
SUMMARY:POLICY TALK PART 2: ANIMAL WELFARE AND ENVIRONMENTAL JUSTICE
DESCRIPTION:POLICY TALK PART 2: ANIMAL WELFARE AND ENVIRONMENTAL JUSTICE \nWe are partnering with For Our Future Michigan and Michiganders for a Just Farming System to offer this two-part virtual series on the Farm Bill. Part 2 will include a panel discussion on how we can create healthy and whole communities\, protect farm animals\, and preserve local ecosystems. Senator Gary Peters will give a special message by video. Panelists include Bee Friedlander\, President\, Attorneys for Animals\, Adam Mason\, Senior Manager for Farm Animal Welfare and Environmental Policy\, the American Society for the Prevention of Cruelty to Animals (ASPCA)\, and Representative Emily Divendorf. \nRegister to attend Part 2 \n 
URL:https://vegmichigan.org/event/policy-talk-part-2-animal-welfare-and-environmental-justice/
ATTACH;FMTTYPE=image/png:https://vegmichigan.org/wp-content/uploads/2023/06/Farm-Bill-Series-Updated-Pic-7.19.png
END:VEVENT
END:VCALENDAR