BEGIN:VCALENDAR
VERSION:2.0
PRODID:-//VegMichigan - ECPv5.16.1.1//NONSGML v1.0//EN
CALSCALE:GREGORIAN
METHOD:PUBLISH
X-WR-CALNAME:VegMichigan
X-ORIGINAL-URL:https://vegmichigan.org
X-WR-CALDESC:Events for VegMichigan
REFRESH-INTERVAL;VALUE=DURATION:PT1H
X-Robots-Tag:noindex
X-PUBLISHED-TTL:PT1H
BEGIN:VTIMEZONE
TZID:America/New_York
BEGIN:DAYLIGHT
TZOFFSETFROM:-0500
TZOFFSETTO:-0400
TZNAME:EDT
DTSTART:20230312T070000
END:DAYLIGHT
BEGIN:STANDARD
TZOFFSETFROM:-0400
TZOFFSETTO:-0500
TZNAME:EST
DTSTART:20231105T060000
END:STANDARD
END:VTIMEZONE
BEGIN:VEVENT
DTSTART;TZID=America/New_York:20230722T120000
DTEND;TZID=America/New_York:20230722T180000
DTSTAMP:20260423T064354
CREATED:20230510T160024Z
LAST-MODIFIED:20230510T160024Z
UID:11405-1690027200-1690048800@vegmichigan.org
SUMMARY:VEGMICHIGAN TABLING AT VEGAN FEST IN DETROIT
DESCRIPTION:VEGMICHIGAN TABLING AT VEGAN FEST IN DETROIT \nVegMichigan will be tabling at Vegan Fest in Detroit at Detroit Abloom Farm & Wellness Garden. \nLearn more about Vegan Fest here – https://www.detroitabloom.com/workshops-events/4th-annual-vegan-fest
URL:https://vegmichigan.org/event/vegmichigan-tabling-at-vegan-fest-in-detroit/
LOCATION:248 Manistique St\, Detroit\, MI 48215
ATTACH;FMTTYPE=image/jpeg:https://vegmichigan.org/wp-content/uploads/2023/05/43.jpg
END:VEVENT
END:VCALENDAR