BEGIN:VCALENDAR
VERSION:2.0
PRODID:-//VegMichigan - ECPv5.16.1.1//NONSGML v1.0//EN
CALSCALE:GREGORIAN
METHOD:PUBLISH
X-WR-CALNAME:VegMichigan
X-ORIGINAL-URL:https://vegmichigan.org
X-WR-CALDESC:Events for VegMichigan
REFRESH-INTERVAL;VALUE=DURATION:PT1H
X-Robots-Tag:noindex
X-PUBLISHED-TTL:PT1H
BEGIN:VTIMEZONE
TZID:America/New_York
BEGIN:DAYLIGHT
TZOFFSETFROM:-0500
TZOFFSETTO:-0400
TZNAME:EDT
DTSTART:20230312T070000
END:DAYLIGHT
BEGIN:STANDARD
TZOFFSETFROM:-0400
TZOFFSETTO:-0500
TZNAME:EST
DTSTART:20231105T060000
END:STANDARD
END:VTIMEZONE
BEGIN:VEVENT
DTSTART;TZID=America/New_York:20230913T100000
DTEND;TZID=America/New_York:20230913T140000
DTSTAMP:20260423T101643
CREATED:20230815T202524Z
LAST-MODIFIED:20230815T202524Z
UID:12075-1694599200-1694613600@vegmichigan.org
SUMMARY:TABLING AT WASHTENAW COMMUNITY COLLEGE WELCOME DAY
DESCRIPTION:TABLING AT WASHTENAW COMMUNITY COLLEGE WELCOME DAY \nVegMichigan will be connecting with student groups to see who is interested in partnering with us. We are looking for groups to organize a plant-based pledge program and other initiatives we are doing to increase awareness about plant-based eating and reducing one’s carbon footprint in Ann Arbor.
URL:https://vegmichigan.org/event/tabling-at-washtenaw-community-college-welcome-day/
ATTACH;FMTTYPE=image/png:https://vegmichigan.org/wp-content/uploads/2023/08/WCC-Welcome-Day-Tabling.png
END:VEVENT
END:VCALENDAR