BEGIN:VCALENDAR
VERSION:2.0
PRODID:-//VegMichigan - ECPv5.16.1.1//NONSGML v1.0//EN
CALSCALE:GREGORIAN
METHOD:PUBLISH
X-ORIGINAL-URL:https://vegmichigan.org
X-WR-CALDESC:Events for VegMichigan
REFRESH-INTERVAL;VALUE=DURATION:PT1H
X-Robots-Tag:noindex
X-PUBLISHED-TTL:PT1H
BEGIN:VTIMEZONE
TZID:America/New_York
BEGIN:DAYLIGHT
TZOFFSETFROM:-0500
TZOFFSETTO:-0400
TZNAME:EDT
DTSTART:20230312T070000
END:DAYLIGHT
BEGIN:STANDARD
TZOFFSETFROM:-0400
TZOFFSETTO:-0500
TZNAME:EST
DTSTART:20231105T060000
END:STANDARD
END:VTIMEZONE
BEGIN:VEVENT
DTSTART;TZID=America/New_York:20230920T180000
DTEND;TZID=America/New_York:20230920T193000
DTSTAMP:20260423T114119
CREATED:20230901T134623Z
LAST-MODIFIED:20230914T174531Z
UID:12125-1695232800-1695238200@vegmichigan.org
SUMMARY:ANN ARBOR DINNER MEETUP AT EL HARISSA
DESCRIPTION:ANN ARBOR DINNER MEETUP AT EL HARISSA \nJoin VegMichigan on Wednesday\, September 20\, from 6pm-7:30pm at El Harissa in Ann Arbor for a delicious prix fixe family-style vegan meal. We’ll grab seats at the outdoor picnic tables so we can all eat together. Drinks and/or additional side items\, such as salad\, can be purchased separately during the event. \nRegistration is $18/person (includes meal and gratuity) and attendance is limited to 15 participants given the limited seating. This is a prepaid event. YOU MUST PAY IN ADVANCE. Don’t miss out\, sign up now! SIGN UP & PAY HERE \nEl Harissa is located at 1516 N. Maple Rd.\, Ann Arbor\, MI\, 48103. \nMenu: \nVegan Appetizer Spread – Includes Hummus\, Mama Houria (spiced carrot spread)\, Zaalouk (Moroccan smoked eggplant spread)\, Stuffed Grape Leaves\, Muhammara (pepper and walnut)\, and Harissa \nPita Bread \nMujadara Rice – Rice mixed with green lentils and topped with caramelized onions \nRoot Vegetable and Date Tagine – Slow-roasted root vegetable\, cooked with pomegranate molasses\, coriander seeds\, garlic\, lemon\, and spices. Sweet and savory.
URL:https://vegmichigan.org/event/12125/
ATTACH;FMTTYPE=image/png:https://vegmichigan.org/wp-content/uploads/2023/09/Hummos-and-Pita.png
END:VEVENT
END:VCALENDAR