BEGIN:VCALENDAR
VERSION:2.0
PRODID:-//VegMichigan - ECPv5.16.1.1//NONSGML v1.0//EN
CALSCALE:GREGORIAN
METHOD:PUBLISH
X-WR-CALNAME:VegMichigan
X-ORIGINAL-URL:https://vegmichigan.org
X-WR-CALDESC:Events for VegMichigan
REFRESH-INTERVAL;VALUE=DURATION:PT1H
X-Robots-Tag:noindex
X-PUBLISHED-TTL:PT1H
BEGIN:VTIMEZONE
TZID:America/New_York
BEGIN:DAYLIGHT
TZOFFSETFROM:-0500
TZOFFSETTO:-0400
TZNAME:EDT
DTSTART:20230312T070000
END:DAYLIGHT
BEGIN:STANDARD
TZOFFSETFROM:-0400
TZOFFSETTO:-0500
TZNAME:EST
DTSTART:20231105T060000
END:STANDARD
END:VTIMEZONE
BEGIN:VEVENT
DTSTART;TZID=America/New_York:20230924T130000
DTEND;TZID=America/New_York:20230924T143000
DTSTAMP:20260423T114123
CREATED:20230815T194428Z
LAST-MODIFIED:20230815T194749Z
UID:12067-1695560400-1695565800@vegmichigan.org
SUMMARY:BOOK CLUB: THE AMERICAN WAY OF EATING BY TRACIE MCMILLAN
DESCRIPTION:BOOK CLUB: THE AMERICAN WAY OF EATING BY TRACIE MCMILLAN \n“The American Way of Eating: Undercover at Walmart\, Applebee’s\, Farm Fields and the Dinner Table” by Tracie McMillan is an exposé of the American food system and what keeps people from eating well. The book is relevant to those who would like to make more compassionate vegan food choices and who work to change the injustices in food production. \nThe book is well-written\, easy to read\, informative and thought-provoking. It is also timely because this is the year that the twice-a-decade farm bill is being negotiated in Washington DC. Many food\, animal welfare and farming organizations are advocating for changes to the bill — including VegMichigan and Attorneys for Animals. \nWe hope you can join us! After registering\, you will receive a confirmation email with information about getting the book\, and about joining the meeting. \nRegister here – https://us06web.zoom.us/meeting/register/tZcpduGgrjwvGdDVnP8YRNTyBEqdcXD7LTwa#/registration
URL:https://vegmichigan.org/event/book-club-the-american-way-of-eating-by-tracie-mcmillan/
ATTACH;FMTTYPE=image/jpeg:https://vegmichigan.org/wp-content/uploads/2023/08/tracie-mcmillan-final.jpg
END:VEVENT
END:VCALENDAR