BEGIN:VCALENDAR
VERSION:2.0
PRODID:-//VegMichigan - ECPv5.16.1.1//NONSGML v1.0//EN
CALSCALE:GREGORIAN
METHOD:PUBLISH
X-ORIGINAL-URL:https://vegmichigan.org
X-WR-CALDESC:Events for VegMichigan
REFRESH-INTERVAL;VALUE=DURATION:PT1H
X-Robots-Tag:noindex
X-PUBLISHED-TTL:PT1H
BEGIN:VTIMEZONE
TZID:America/New_York
BEGIN:DAYLIGHT
TZOFFSETFROM:-0500
TZOFFSETTO:-0400
TZNAME:EDT
DTSTART:20230312T070000
END:DAYLIGHT
BEGIN:STANDARD
TZOFFSETFROM:-0400
TZOFFSETTO:-0500
TZNAME:EST
DTSTART:20231105T060000
END:STANDARD
END:VTIMEZONE
BEGIN:VEVENT
DTSTART;TZID=America/New_York:20231006T130000
DTEND;TZID=America/New_York:20231006T150000
DTSTAMP:20260423T132636
CREATED:20230918T165605Z
LAST-MODIFIED:20230918T165605Z
UID:12156-1696597200-1696604400@vegmichigan.org
SUMMARY:TRAVERSE CITY MONTHLY MEETUP - CELEBRATE FALL WITH US!
DESCRIPTION:TRAVERSE CITY MONTHLY MEETUP – CELEBRATE FALL WITH US! \nCelebrate Fall with us! \nIn the spirit of Oktoberfest\, the upcoming monthly VegMichigan Traverse City Meetup will be held Friday\, October 6th from 1:00-3:00 p.m. at Oryana West Co-op\, 3587 Marketplace Circle\, Traverse City 49684. \nCome and join us to sample vegan brats\, sausages\, and local cider.
URL:https://vegmichigan.org/event/traverse-city-monthly-meetup-celebrate-fall-with-us/
ATTACH;FMTTYPE=image/webp:https://vegmichigan.org/wp-content/uploads/2023/09/600_515900301.webp
END:VEVENT
END:VCALENDAR