BEGIN:VCALENDAR
VERSION:2.0
PRODID:-//VegMichigan - ECPv5.16.1.1//NONSGML v1.0//EN
CALSCALE:GREGORIAN
METHOD:PUBLISH
X-WR-CALNAME:VegMichigan
X-ORIGINAL-URL:https://vegmichigan.org
X-WR-CALDESC:Events for VegMichigan
REFRESH-INTERVAL;VALUE=DURATION:PT1H
X-Robots-Tag:noindex
X-PUBLISHED-TTL:PT1H
BEGIN:VTIMEZONE
TZID:America/New_York
BEGIN:DAYLIGHT
TZOFFSETFROM:-0500
TZOFFSETTO:-0400
TZNAME:EDT
DTSTART:20230312T070000
END:DAYLIGHT
BEGIN:STANDARD
TZOFFSETFROM:-0400
TZOFFSETTO:-0500
TZNAME:EST
DTSTART:20231105T060000
END:STANDARD
END:VTIMEZONE
BEGIN:VEVENT
DTSTART;TZID=America/New_York:20231012T180000
DTEND;TZID=America/New_York:20231012T193000
DTSTAMP:20260423T132639
CREATED:20230928T140605Z
LAST-MODIFIED:20230928T140605Z
UID:12276-1697133600-1697139000@vegmichigan.org
SUMMARY:DINNER MEETUP AT VKITCHEN IN ANN ARBOR
DESCRIPTION:DINNER MEETUP AT VKITCHEN IN ANN ARBOR \nJoin VegMichigan on Thursday\, October 12th\, from 6pm-7:30pm at VKitchen in Ann Arbor for a delicious\, plant-based Vietnamese dinner. VKitchen has several plant-based entrees to choose from\, and an indoor dining room perfect for cooler weather. We hope you can join us! \nVKitchen is located at 883 W Eisenhower Pkwy\, Ann Arbor\, MI 48103.
URL:https://vegmichigan.org/event/dinner-meetup-at-vkitchen-in-ann-arbor/
ATTACH;FMTTYPE=image/webp:https://vegmichigan.org/wp-content/uploads/2023/09/600_516169476.webp
END:VEVENT
END:VCALENDAR