BEGIN:VCALENDAR
VERSION:2.0
PRODID:-//VegMichigan - ECPv5.16.1.1//NONSGML v1.0//EN
CALSCALE:GREGORIAN
METHOD:PUBLISH
X-WR-CALNAME:VegMichigan
X-ORIGINAL-URL:https://vegmichigan.org
X-WR-CALDESC:Events for VegMichigan
REFRESH-INTERVAL;VALUE=DURATION:PT1H
X-Robots-Tag:noindex
X-PUBLISHED-TTL:PT1H
BEGIN:VTIMEZONE
TZID:America/New_York
BEGIN:DAYLIGHT
TZOFFSETFROM:-0500
TZOFFSETTO:-0400
TZNAME:EDT
DTSTART:20230312T070000
END:DAYLIGHT
BEGIN:STANDARD
TZOFFSETFROM:-0400
TZOFFSETTO:-0500
TZNAME:EST
DTSTART:20231105T060000
END:STANDARD
END:VTIMEZONE
BEGIN:VEVENT
DTSTART;TZID=America/New_York:20231016T180000
DTEND;TZID=America/New_York:20231016T200000
DTSTAMP:20260423T132556
CREATED:20230928T141122Z
LAST-MODIFIED:20230928T193053Z
UID:12280-1697479200-1697486400@vegmichigan.org
SUMMARY:TAKE ACTION ON S.B. 275 TO STOP FACTORY FARMING
DESCRIPTION:TAKE ACTION ON S.B. 275 TO STOP FACTORY FARMING \n\n\n\nAs a member of Michiganders for a Just Farming System\, VegMichigan is hosting a virtual letter-writing and phone bank open house. Come for as long as you are able and make your voice heard on this greenwashing bill. Help stop animal manure from being used as an energy source to prevent the expansion of factory farms. \nFor more details on the bill review our action alert. You can start calling and writing letters today. \nWe will be raffling off two gift cards throughout the event. Join us and you could be a winner! \n  \nVirtual Event: Take Action on S.B. 275 to Stop Factory Farming \nMonday October 16 \nOpen house from 6pm – 8pm \n  \nZoom details: \nJoin Zoom Meeting \nhttps://us06web.zoom.us/j/81277298565 \nMeeting ID: 812 7729 8565 \n— \nOne tap mobile \n+13126266799\,\,81277298565# US (Chicago) \n+16465588656\,\,81277298565# US (New York) \n  \n— \n  \nDial by your location \n• +1 312 626 6799 US (Chicago) \n• +1 646 558 8656 US (New York) \n• +1 646 931 3860 US \n• +1 301 715 8592 US (Washington DC) \n• +1 305 224 1968 US \n• +1 309 205 3325 US \n• +1 720 707 2699 US (Denver) \n• +1 253 205 0468 US \n• +1 253 215 8782 US (Tacoma) \n• +1 346 248 7799 US (Houston) \n• +1 360 209 5623 US \n• +1 386 347 5053 US \n• +1 507 473 4847 US \n• +1 564 217 2000 US \n• +1 669 444 9171 US \n• +1 689 278 1000 US \n• +1 719 359 4580 US \n  \nMeeting ID: 812 7729 8565
URL:https://vegmichigan.org/event/take-action-on-s-b-275-to-stop-factory-farming/
ATTACH;FMTTYPE=image/jpeg:https://vegmichigan.org/wp-content/uploads/2023/09/SB-275-Letters-.jpg
END:VEVENT
END:VCALENDAR