BEGIN:VCALENDAR
VERSION:2.0
PRODID:-//VegMichigan - ECPv5.16.1.1//NONSGML v1.0//EN
CALSCALE:GREGORIAN
METHOD:PUBLISH
X-WR-CALNAME:VegMichigan
X-ORIGINAL-URL:https://vegmichigan.org
X-WR-CALDESC:Events for VegMichigan
REFRESH-INTERVAL;VALUE=DURATION:PT1H
X-Robots-Tag:noindex
X-PUBLISHED-TTL:PT1H
BEGIN:VTIMEZONE
TZID:America/New_York
BEGIN:DAYLIGHT
TZOFFSETFROM:-0500
TZOFFSETTO:-0400
TZNAME:EDT
DTSTART:20230312T070000
END:DAYLIGHT
BEGIN:STANDARD
TZOFFSETFROM:-0400
TZOFFSETTO:-0500
TZNAME:EST
DTSTART:20231105T060000
END:STANDARD
END:VTIMEZONE
BEGIN:VEVENT
DTSTART;VALUE=DATE:20231017
DTEND;VALUE=DATE:20231018
DTSTAMP:20260423T132557
CREATED:20230921T175452Z
LAST-MODIFIED:20230921T175452Z
UID:12235-1697500800-1697587199@vegmichigan.org
SUMMARY:SHARE DETROIT MEETING
DESCRIPTION:SHARE DETROIT MEETING \nVegMichigan is partnering with Zella’s Bakery to serve an all-plant-based lunch to nonprofits in the Detroit area.
URL:https://vegmichigan.org/event/share-detroit-meeting/
ATTACH;FMTTYPE=image/png:https://vegmichigan.org/wp-content/uploads/2023/09/Plant-Based-Tacos.png
END:VEVENT
END:VCALENDAR