BEGIN:VCALENDAR
VERSION:2.0
PRODID:-//VegMichigan - ECPv5.16.1.1//NONSGML v1.0//EN
CALSCALE:GREGORIAN
METHOD:PUBLISH
X-WR-CALNAME:VegMichigan
X-ORIGINAL-URL:https://vegmichigan.org
X-WR-CALDESC:Events for VegMichigan
REFRESH-INTERVAL;VALUE=DURATION:PT1H
X-Robots-Tag:noindex
X-PUBLISHED-TTL:PT1H
BEGIN:VTIMEZONE
TZID:America/New_York
BEGIN:DAYLIGHT
TZOFFSETFROM:-0500
TZOFFSETTO:-0400
TZNAME:EDT
DTSTART:20230312T070000
END:DAYLIGHT
BEGIN:STANDARD
TZOFFSETFROM:-0400
TZOFFSETTO:-0500
TZNAME:EST
DTSTART:20231105T060000
END:STANDARD
END:VTIMEZONE
BEGIN:VEVENT
DTSTART;VALUE=DATE:20231018
DTEND;VALUE=DATE:20231019
DTSTAMP:20260423T132556
CREATED:20230928T135602Z
LAST-MODIFIED:20230928T135602Z
UID:12273-1697587200-1697673599@vegmichigan.org
SUMMARY:EDUCATIONAL PROGRAM FOR ANIMAL PHILOSOPHY COURSE AT MADONNA UNIVERSITY
DESCRIPTION:EDUCATIONAL PROGRAM FOR ANIMAL PHILOSOPHY COURSE AT MADONNA UNIVERSITY\n\n\nVegMichigan is teaching an educational program to an animal philosophy class at Madonna University. We will foster empathy and compassion for animals and invite students to think critically about the human-animal relationship and to specifically question the use of animals as food. Students in the class will also be given the opportunity to participate in our 30-day plant-based pledge program.
URL:https://vegmichigan.org/event/educational-program-for-animal-philosophy-course-at-madonna-university/
ATTACH;FMTTYPE=image/png:https://vegmichigan.org/wp-content/uploads/2023/09/Our-Relationship-to-Animals.png
END:VEVENT
END:VCALENDAR