BEGIN:VCALENDAR
VERSION:2.0
PRODID:-//VegMichigan - ECPv5.16.1.1//NONSGML v1.0//EN
CALSCALE:GREGORIAN
METHOD:PUBLISH
X-ORIGINAL-URL:https://vegmichigan.org
X-WR-CALDESC:Events for VegMichigan
REFRESH-INTERVAL;VALUE=DURATION:PT1H
X-Robots-Tag:noindex
X-PUBLISHED-TTL:PT1H
BEGIN:VTIMEZONE
TZID:America/New_York
BEGIN:DAYLIGHT
TZOFFSETFROM:-0500
TZOFFSETTO:-0400
TZNAME:EDT
DTSTART:20230312T070000
END:DAYLIGHT
BEGIN:STANDARD
TZOFFSETFROM:-0400
TZOFFSETTO:-0500
TZNAME:EST
DTSTART:20231105T060000
END:STANDARD
END:VTIMEZONE
BEGIN:VEVENT
DTSTART;TZID=America/New_York:20231019T183000
DTEND;TZID=America/New_York:20231019T203000
DTSTAMP:20260423T132635
CREATED:20230921T144146Z
LAST-MODIFIED:20231010T155222Z
UID:12165-1697740200-1697747400@vegmichigan.org
SUMMARY:EMBRACING A PLANT-BASED DIET
DESCRIPTION:EMBRACING A PLANT-BASED DIET \nMarc Ramirez\, a former University of Michigan football player and co-founder of the nonprofit Chickpea and Bean\, will discuss how he lost 50 pounds and reversed Type 2 diabetes and other illnesses with the power of plants. His wife Kim\, co-founder of Chickpea and Bean\, will share tips and tricks about what to shop for and how to prepare food while transitioning to a plant-based lifestyle. Marc has a wonderful story to share and will inspire you to make positive changes in your own life. \nThis presentation is in person at the Ewald Branch of the Grosse Pointe Library. \n15175 E Jefferson\, Grosse Pointe Park\, MI 48230 \nPlease register here: https://grossepointelibrary.org/calendar-of-events#/events/AcmPYEA7w6/instances/dOhCsGPKpo/
URL:https://vegmichigan.org/event/embracing-a-plant-based-diet/
ATTACH;FMTTYPE=image/jpeg:https://vegmichigan.org/wp-content/uploads/2023/08/Marc-and-Kim-scaled-3-1.jpg
END:VEVENT
END:VCALENDAR