BEGIN:VCALENDAR
VERSION:2.0
PRODID:-//VegMichigan - ECPv5.16.1.1//NONSGML v1.0//EN
CALSCALE:GREGORIAN
METHOD:PUBLISH
X-ORIGINAL-URL:https://vegmichigan.org
X-WR-CALDESC:Events for VegMichigan
REFRESH-INTERVAL;VALUE=DURATION:PT1H
X-Robots-Tag:noindex
X-PUBLISHED-TTL:PT1H
BEGIN:VTIMEZONE
TZID:America/New_York
BEGIN:DAYLIGHT
TZOFFSETFROM:-0500
TZOFFSETTO:-0400
TZNAME:EDT
DTSTART:20230312T070000
END:DAYLIGHT
BEGIN:STANDARD
TZOFFSETFROM:-0400
TZOFFSETTO:-0500
TZNAME:EST
DTSTART:20231105T060000
END:STANDARD
END:VTIMEZONE
BEGIN:VEVENT
DTSTART;TZID=America/New_York:20231025T180000
DTEND;TZID=America/New_York:20231025T193000
DTSTAMP:20260423T132634
CREATED:20230929T181230Z
LAST-MODIFIED:20231024T220841Z
UID:12311-1698256800-1698262200@vegmichigan.org
SUMMARY:VOLUNTEER ORIENTATION
DESCRIPTION:VOLUNTEER ORIENTATION \nVegMichigan will be holding a virtual volunteer orientation for new volunteers on Wednesday\, October 25\, from 6-7:30 p.m. \nIf you would like to join our team\, please fill out our new volunteer application. Once that has been submitted\, you will receive an invitation to the orientation. \nPlease contact our volunteer coordinator Katie at katie@vegmichigan.org with any questions. \nHope to see you there!
URL:https://vegmichigan.org/event/volunteer-orientation/
ATTACH;FMTTYPE=image/jpeg:https://vegmichigan.org/wp-content/uploads/2023/06/VegFest-6-4-23-Joe-Maroon-Photography-6-1.jpg
END:VEVENT
END:VCALENDAR