BEGIN:VCALENDAR
VERSION:2.0
PRODID:-//VegMichigan - ECPv5.16.1.1//NONSGML v1.0//EN
CALSCALE:GREGORIAN
METHOD:PUBLISH
X-ORIGINAL-URL:https://vegmichigan.org
X-WR-CALDESC:Events for VegMichigan
REFRESH-INTERVAL;VALUE=DURATION:PT1H
X-Robots-Tag:noindex
X-PUBLISHED-TTL:PT1H
BEGIN:VTIMEZONE
TZID:America/New_York
BEGIN:DAYLIGHT
TZOFFSETFROM:-0500
TZOFFSETTO:-0400
TZNAME:EDT
DTSTART:20230312T070000
END:DAYLIGHT
BEGIN:STANDARD
TZOFFSETFROM:-0400
TZOFFSETTO:-0500
TZNAME:EST
DTSTART:20231105T060000
END:STANDARD
END:VTIMEZONE
BEGIN:VEVENT
DTSTART;TZID=America/New_York:20231103T150000
DTEND;TZID=America/New_York:20231103T170000
DTSTAMP:20260423T132634
CREATED:20231026T194401Z
LAST-MODIFIED:20231026T194401Z
UID:12373-1699023600-1699030800@vegmichigan.org
SUMMARY:SAMPLING OF SEASONAL SWEETS (TRAVERSE CITY MEETUP)
DESCRIPTION:SAMPLING OF SEASONAL SWEETS (TRAVERSE CITY MEETUP) \nDid you know that Oryana offers a delicious array of home-baked\, vegan cookies\, cakes\, and pies? \nJust in time for the holidays\, this month’s VegMicigan Traverse City Meetup will allow participants to sample the many vegan baked goods available through our local grocery coop. \nLearn more and RSVP here – https://www.meetup.com/traverse-city-vegmichigan-meetup/events/296722015/?utm_medium=referral&utm_campaign=share-btn_savedevents_share_modal&utm_source=link
URL:https://vegmichigan.org/event/sampling-of-seasonal-sweets-traverse-city-meetup/
ATTACH;FMTTYPE=image/webp:https://vegmichigan.org/wp-content/uploads/2023/10/600_516531065.webp
END:VEVENT
END:VCALENDAR