BEGIN:VCALENDAR
VERSION:2.0
PRODID:-//VegMichigan - ECPv5.16.1.1//NONSGML v1.0//EN
CALSCALE:GREGORIAN
METHOD:PUBLISH
X-ORIGINAL-URL:https://vegmichigan.org
X-WR-CALDESC:Events for VegMichigan
REFRESH-INTERVAL;VALUE=DURATION:PT1H
X-Robots-Tag:noindex
X-PUBLISHED-TTL:PT1H
BEGIN:VTIMEZONE
TZID:America/New_York
BEGIN:DAYLIGHT
TZOFFSETFROM:-0500
TZOFFSETTO:-0400
TZNAME:EDT
DTSTART:20230312T070000
END:DAYLIGHT
BEGIN:STANDARD
TZOFFSETFROM:-0400
TZOFFSETTO:-0500
TZNAME:EST
DTSTART:20231105T060000
END:STANDARD
END:VTIMEZONE
BEGIN:VEVENT
DTSTART;TZID=America/New_York:20231114T180000
DTEND;TZID=America/New_York:20231114T203000
DTSTAMP:20260423T150710
CREATED:20231012T224948Z
LAST-MODIFIED:20231012T224948Z
UID:12351-1699984800-1699993800@vegmichigan.org
SUMMARY:VEGAN HOLIDAY DESSERTS (TRAVERSE CITY COOKING CLASS)
DESCRIPTION:VEGAN HOLIDAY DESSERTS (TRAVERSE CITY COOKING CLASS) \n  \n\n\n\n\nVegMichigan and Oryana invite you to join us as we celebrate the season with easy\, delicious desserts perfect for the holidays. Top off your vegan holiday feast with a plant-based sweet treat everyone will love. Together we’ll be making Dark Chocolate Truffles\, Poached Pears with Raspberry Sauce\, Zesty Ginger Cookies\, and Apple Cranberry Hazelnut Crisp. Expand your vegan holiday dessert repertoire with us! \nRegistration Required – https://www.eventbrite.com/e/vegan-holiday-desserts-tickets-689513492417?aff=ebdsoporgprofile \nNotes:  \nClasses are held in our Community Room and Kitchen at Oryana West. The Community Room is in the back of the store near the restrooms and Wellness Department. \nCancellation policy – Classes are refundable up to 2 business days before the class. Please email us a marketing@oryana.coop if you need to cancel. \nAbout the instructor: Caroline Golbeck studied pastry arts at College of DuPage in Illinois. \nClass Waiting List – If the class you want to take is full\, email us at info@oryana.coop to have your name added to a waiting list. People often end up dropping out so it’s worth it to get your name on the wait list. \n\n\n\n\n\n\n\n\n\n 
URL:https://vegmichigan.org/event/vegan-holiday-desserts-traverse-city-cooking-class/
ATTACH;FMTTYPE=image/png:https://vegmichigan.org/wp-content/uploads/2023/10/Screenshot-2023-10-12-at-6.46.48-PM.png
END:VEVENT
END:VCALENDAR