BEGIN:VCALENDAR
VERSION:2.0
PRODID:-//VegMichigan - ECPv5.16.1.1//NONSGML v1.0//EN
CALSCALE:GREGORIAN
METHOD:PUBLISH
X-ORIGINAL-URL:https://vegmichigan.org
X-WR-CALDESC:Events for VegMichigan
REFRESH-INTERVAL;VALUE=DURATION:PT1H
X-Robots-Tag:noindex
X-PUBLISHED-TTL:PT1H
BEGIN:VTIMEZONE
TZID:America/New_York
BEGIN:DAYLIGHT
TZOFFSETFROM:-0500
TZOFFSETTO:-0400
TZNAME:EDT
DTSTART:20230312T070000
END:DAYLIGHT
BEGIN:STANDARD
TZOFFSETFROM:-0400
TZOFFSETTO:-0500
TZNAME:EST
DTSTART:20231105T060000
END:STANDARD
END:VTIMEZONE
BEGIN:VEVENT
DTSTART;VALUE=DATE:20231115
DTEND;VALUE=DATE:20231116
DTSTAMP:20260423T150709
CREATED:20231030T181601Z
LAST-MODIFIED:20231030T181601Z
UID:12380-1700006400-1700092799@vegmichigan.org
SUMMARY:30-DAY PLANT-BASED PLEDGE FOR U-M ENGINEERING CLASS
DESCRIPTION:30-DAY PLANT-BASED PLEDGE FOR U-M ENGINEERING CLASS \nWe will give a brief talk about the connection between plant-based eating and climate change\, our collaboration with the City of Ann Arbor and their efforts to be carbon neutral by 2030\, and the benefits of plant-based eating. Then\, students who signed up to participate in the 30-day plant-based pledge will receive their FREE bag of plant-based items.
URL:https://vegmichigan.org/event/30-day-plant-based-pledge-for-u-m-engineering-class/
ATTACH;FMTTYPE=image/jpeg:https://vegmichigan.org/wp-content/uploads/2023/10/IMG_2446-scaled.jpeg
END:VEVENT
BEGIN:VEVENT
DTSTART;VALUE=DATE:20231115
DTEND;VALUE=DATE:20231116
DTSTAMP:20260423T150709
CREATED:20231030T181910Z
LAST-MODIFIED:20231030T181910Z
UID:12385-1700006400-1700092799@vegmichigan.org
SUMMARY:PLANT-FUTURES PANEL
DESCRIPTION:PLANT-FUTURES PANEL \nWe have been invited by Plant Futures Initiative (PFI) at the University of Michigan to speak on a panel focused on food sustainability to share our experiences with undergraduate students who are interested in being involved in the field of food sustainability themselves. \n 
URL:https://vegmichigan.org/event/plant-futures-panel/
ATTACH;FMTTYPE=image/png:https://vegmichigan.org/wp-content/uploads/2023/10/Panel-Event-Pic-OptionB.png
END:VEVENT
END:VCALENDAR