BEGIN:VCALENDAR
VERSION:2.0
PRODID:-//VegMichigan - ECPv5.16.1.1//NONSGML v1.0//EN
CALSCALE:GREGORIAN
METHOD:PUBLISH
X-ORIGINAL-URL:https://vegmichigan.org
X-WR-CALDESC:Events for VegMichigan
REFRESH-INTERVAL;VALUE=DURATION:PT1H
X-Robots-Tag:noindex
X-PUBLISHED-TTL:PT1H
BEGIN:VTIMEZONE
TZID:America/New_York
BEGIN:DAYLIGHT
TZOFFSETFROM:-0500
TZOFFSETTO:-0400
TZNAME:EDT
DTSTART:20230312T070000
END:DAYLIGHT
BEGIN:STANDARD
TZOFFSETFROM:-0400
TZOFFSETTO:-0500
TZNAME:EST
DTSTART:20231105T060000
END:STANDARD
END:VTIMEZONE
BEGIN:VEVENT
DTSTART;TZID=America/New_York:20231116T180000
DTEND;TZID=America/New_York:20231116T193000
DTSTAMP:20260423T150710
CREATED:20231030T201449Z
LAST-MODIFIED:20231030T201449Z
UID:12387-1700157600-1700163000@vegmichigan.org
SUMMARY:ANN ARBOR DINNER CLUB MEETUP AT HOPCAT
DESCRIPTION:ANN ARBOR DINNER CLUB MEETUP AT HOPCAT \nJoin us for our monthly Ann Arbor Dinner Club Meetup! \nThis meetup will be at HopCat in Ann Arbor – 311 Maynard St\, Ann Arbor\, MI 48104 \nCheck out their menu here – https://www.hopcat.com/ann-arbor/food \nPlease RSVP on the VegMichigan Ann Arbor Meetup page – https://www.meetup.com/vegmichigan-greater-ann-arbor-area/events/297054451/?isFirstPublish=true \nSee you soon!
URL:https://vegmichigan.org/event/ann-arbor-dinner-club-meetup-at-hopcat/
ATTACH;FMTTYPE=image/jpeg:https://vegmichigan.org/wp-content/uploads/2023/10/HopCat-burger.jpg
END:VEVENT
END:VCALENDAR