BEGIN:VCALENDAR
VERSION:2.0
PRODID:-//VegMichigan - ECPv5.16.1.1//NONSGML v1.0//EN
CALSCALE:GREGORIAN
METHOD:PUBLISH
X-ORIGINAL-URL:https://vegmichigan.org
X-WR-CALDESC:Events for VegMichigan
REFRESH-INTERVAL;VALUE=DURATION:PT1H
X-Robots-Tag:noindex
X-PUBLISHED-TTL:PT1H
BEGIN:VTIMEZONE
TZID:America/New_York
BEGIN:DAYLIGHT
TZOFFSETFROM:-0500
TZOFFSETTO:-0400
TZNAME:EDT
DTSTART:20230312T070000
END:DAYLIGHT
BEGIN:STANDARD
TZOFFSETFROM:-0400
TZOFFSETTO:-0500
TZNAME:EST
DTSTART:20231105T060000
END:STANDARD
END:VTIMEZONE
BEGIN:VEVENT
DTSTART;VALUE=DATE:20231120
DTEND;VALUE=DATE:20231121
DTSTAMP:20260423T150710
CREATED:20231026T185257Z
LAST-MODIFIED:20231114T170323Z
UID:12362-1700438400-1700524799@vegmichigan.org
SUMMARY:SUSTAINABLE FOOD COALITION
DESCRIPTION:SUSTAINABLE FOOD COALITION \nVegMichigan will provide a short presentation for Ann Arbor’s Sustainable Food Coalition’s meeting\, discussing the impact that food has on the climate. \nThis event has been rescheduled. It was originally scheduled for November 3rd.
URL:https://vegmichigan.org/event/sustainable-food-coalition/
ATTACH;FMTTYPE=image/jpeg:https://vegmichigan.org/wp-content/uploads/2023/10/pexels-karolina-grabowska-5842502-scaled.jpg
END:VEVENT
END:VCALENDAR