BEGIN:VCALENDAR
VERSION:2.0
PRODID:-//VegMichigan - ECPv5.16.1.1//NONSGML v1.0//EN
CALSCALE:GREGORIAN
METHOD:PUBLISH
X-ORIGINAL-URL:https://vegmichigan.org
X-WR-CALDESC:Events for VegMichigan
REFRESH-INTERVAL;VALUE=DURATION:PT1H
X-Robots-Tag:noindex
X-PUBLISHED-TTL:PT1H
BEGIN:VTIMEZONE
TZID:America/New_York
BEGIN:DAYLIGHT
TZOFFSETFROM:-0500
TZOFFSETTO:-0400
TZNAME:EDT
DTSTART:20230312T070000
END:DAYLIGHT
BEGIN:STANDARD
TZOFFSETFROM:-0400
TZOFFSETTO:-0500
TZNAME:EST
DTSTART:20231105T060000
END:STANDARD
END:VTIMEZONE
BEGIN:VEVENT
DTSTART;TZID=America/New_York:20231214T180000
DTEND;TZID=America/New_York:20231214T183000
DTSTAMP:20260423T180829
CREATED:20230810T203739Z
LAST-MODIFIED:20231212T142153Z
UID:12041-1702576800-1702578600@vegmichigan.org
SUMMARY:PLANT-BASED PLEDGE & PRESENTATION FOR HSHV
DESCRIPTION:PLANT-BASED PLEDGE & PRESENTATION FOR HSHV \nVegMichigan is providing a short presentation about our free 30-day plant-based pledge program\, discussing all the benefits of plant-based eating\, the connection to our partnership with the city of Ann Arbor and its A2Zero initiative\, and letting participants know that we are here to support them on their plant-based journey. Participants will also receive their free bag of plant-based food items. \nThis event is at the Humane Society of Huron Valley (HSHV) \nPlease reach out to Kim at kim@vegmichigan.org if you are interested in attending this event.
URL:https://vegmichigan.org/event/plant-based-pledge-presentation-for-hshv-4/
LOCATION:3100 Cherry Hill Rd\, Ann Arbor\, MI 48105
CATEGORIES:Ann Arbor Pledge
ATTACH;FMTTYPE=image/jpeg:https://vegmichigan.org/wp-content/uploads/2023/08/PXL_20230320_211204665-scaled.jpg
END:VEVENT
END:VCALENDAR