BEGIN:VCALENDAR
VERSION:2.0
PRODID:-//VegMichigan - ECPv5.16.1.1//NONSGML v1.0//EN
CALSCALE:GREGORIAN
METHOD:PUBLISH
X-WR-CALNAME:VegMichigan
X-ORIGINAL-URL:https://vegmichigan.org
X-WR-CALDESC:Events for VegMichigan
REFRESH-INTERVAL;VALUE=DURATION:PT1H
X-Robots-Tag:noindex
X-PUBLISHED-TTL:PT1H
BEGIN:VTIMEZONE
TZID:America/New_York
BEGIN:DAYLIGHT
TZOFFSETFROM:-0500
TZOFFSETTO:-0400
TZNAME:EDT
DTSTART:20240310T070000
END:DAYLIGHT
BEGIN:STANDARD
TZOFFSETFROM:-0400
TZOFFSETTO:-0500
TZNAME:EST
DTSTART:20241103T060000
END:STANDARD
END:VTIMEZONE
BEGIN:VEVENT
DTSTART;TZID=America/New_York:20240105T140000
DTEND;TZID=America/New_York:20240105T180000
DTSTAMP:20260423T180814
CREATED:20240102T200957Z
LAST-MODIFIED:20240104T182618Z
UID:12785-1704463200-1704477600@vegmichigan.org
SUMMARY:WICKED KITCHEN GIVEAWAY
DESCRIPTION:WICKED KITCHEN GIVEAWAY \nVegMichigan has partnered with Wicked Kitchen for a huge food giveaway. Everyone is welcome to come to the office and can pick any 5 items from a huge selection of Wicked Kitchen products. As an added bonus\, if you are a current VegMichigan paid member\, you can take home 3 additional items. Items include frozen pizza\, burrito bowls\, noodle cups\, mac & cheese\, and much more! This is a great opportunity to try Wicked Kitchen’s products. \nYou can pick up your items on Friday January 5\, or Thursday\, January 11\, from 2pm until 6pm each day at our office.\n\nVegMichigan\n33900 W 8 Mile Road\, Suite 175\nFarmington Hills\, MI 48335\n\nMark your calendar\, don’t miss it! \nPlease contact tom@vegmichigan.org to let us know you are planning on coming\, or if you have any questions.
URL:https://vegmichigan.org/event/wicked-kitchen-giveaway-4/
LOCATION:33900 W 8 Mile Road\, Suite 175 Farmington Hills\, MI 48335
ATTACH;FMTTYPE=image/jpeg:https://vegmichigan.org/wp-content/uploads/2024/01/PXL_20231218_194101658-scaled.jpg
END:VEVENT
END:VCALENDAR