BEGIN:VCALENDAR
VERSION:2.0
PRODID:-//VegMichigan - ECPv5.16.1.1//NONSGML v1.0//EN
CALSCALE:GREGORIAN
METHOD:PUBLISH
X-WR-CALNAME:VegMichigan
X-ORIGINAL-URL:https://vegmichigan.org
X-WR-CALDESC:Events for VegMichigan
REFRESH-INTERVAL;VALUE=DURATION:PT1H
X-Robots-Tag:noindex
X-PUBLISHED-TTL:PT1H
BEGIN:VTIMEZONE
TZID:America/New_York
BEGIN:DAYLIGHT
TZOFFSETFROM:-0500
TZOFFSETTO:-0400
TZNAME:EDT
DTSTART:20240310T070000
END:DAYLIGHT
BEGIN:STANDARD
TZOFFSETFROM:-0400
TZOFFSETTO:-0500
TZNAME:EST
DTSTART:20241103T060000
END:STANDARD
END:VTIMEZONE
BEGIN:VEVENT
DTSTART;TZID=America/New_York:20240106T130000
DTEND;TZID=America/New_York:20240106T150000
DTSTAMP:20260423T180814
CREATED:20231228T151341Z
LAST-MODIFIED:20231228T151341Z
UID:12750-1704546000-1704553200@vegmichigan.org
SUMMARY:NEW YEAR MEETUP AT STONE HOUND BREWING CO IN TRAVERSE CITY
DESCRIPTION:NEW YEAR MEETUP AT STONE HOUND BREWING CO IN TRAVERSE CITY \nLet’s celebrate the New Year at Stonehound with a 100% plant-based menu! Wraps\, burgers\, bowls and snacks. \nWhatever your food preference (vegetarian\, vegan\, omnivore)\, everyone’s welcome! \nFood orders are taken at the bar\, so arrive whenever you want. \nWe’ll be there from 1:00 pm. \nCheck out the menu STONE HOUND BREWING CO.
URL:https://vegmichigan.org/event/new-year-meetup-at-stone-hound-brewing-co-in-traverse-city/
LOCATION:Stone Hound Brewing Company\, 3593 Bunker Hill Rd\,\, Williamsburg\, MI\, 49690\, United States
ATTACH;FMTTYPE=image/webp:https://vegmichigan.org/wp-content/uploads/2023/12/600_517929913.webp
END:VEVENT
END:VCALENDAR