BEGIN:VCALENDAR
VERSION:2.0
PRODID:-//VegMichigan - ECPv5.16.1.1//NONSGML v1.0//EN
CALSCALE:GREGORIAN
METHOD:PUBLISH
X-ORIGINAL-URL:https://vegmichigan.org
X-WR-CALDESC:Events for VegMichigan
REFRESH-INTERVAL;VALUE=DURATION:PT1H
X-Robots-Tag:noindex
X-PUBLISHED-TTL:PT1H
BEGIN:VTIMEZONE
TZID:America/New_York
BEGIN:DAYLIGHT
TZOFFSETFROM:-0500
TZOFFSETTO:-0400
TZNAME:EDT
DTSTART:20240310T070000
END:DAYLIGHT
BEGIN:STANDARD
TZOFFSETFROM:-0400
TZOFFSETTO:-0500
TZNAME:EST
DTSTART:20241103T060000
END:STANDARD
END:VTIMEZONE
BEGIN:VEVENT
DTSTART;TZID=America/New_York:20240116T183000
DTEND;TZID=America/New_York:20240116T200000
DTSTAMP:20260423T225438
CREATED:20231208T110312Z
LAST-MODIFIED:20240104T200523Z
UID:12493-1705429800-1705435200@vegmichigan.org
SUMMARY:EMBRACING A PLANT-BASED LIFESTYLE
DESCRIPTION:EMBRACING A PLANT-BASED LIFESTYLE \nJoin us for an in-person presentation by Marc and Kim Ramirez. Hosted in partnership with the Clinton Macomb Public Library. \nMarc Ramirez\, a former University of Michigan football player and co-founder of the nonprofit Chickpea and Bean\, will discuss how he lost 50 pounds and reversed Type 2 diabetes and other illnesses with the power of plants. His wife Kim\, co-founder of Chickpea and Bean\, will share tips and tricks about what to shop for and how to prepare food while transitioning to a plant-based lifestyle. Marc has a wonderful story to share and will inspire you to make positive changes in your own life. \nThis event is in person at the Clinton Macomb Public Library Main Branch (40900 Romeo Plank\, Clinton Twp.\, MI 48038)
URL:https://vegmichigan.org/event/embracing-a-plant-based-lifestyle-3/
LOCATION:40900 Romeo Plank Rd · Clinton Twp\, MI
ATTACH;FMTTYPE=image/jpeg:https://vegmichigan.org/wp-content/uploads/2023/12/Marc-and-Kim-scaled-4.jpg
END:VEVENT
END:VCALENDAR