BEGIN:VCALENDAR
VERSION:2.0
PRODID:-//VegMichigan - ECPv5.16.1.1//NONSGML v1.0//EN
CALSCALE:GREGORIAN
METHOD:PUBLISH
X-ORIGINAL-URL:https://vegmichigan.org
X-WR-CALDESC:Events for VegMichigan
REFRESH-INTERVAL;VALUE=DURATION:PT1H
X-Robots-Tag:noindex
X-PUBLISHED-TTL:PT1H
BEGIN:VTIMEZONE
TZID:America/New_York
BEGIN:DAYLIGHT
TZOFFSETFROM:-0500
TZOFFSETTO:-0400
TZNAME:EDT
DTSTART:20240310T070000
END:DAYLIGHT
BEGIN:STANDARD
TZOFFSETFROM:-0400
TZOFFSETTO:-0500
TZNAME:EST
DTSTART:20241103T060000
END:STANDARD
END:VTIMEZONE
BEGIN:VEVENT
DTSTART;TZID=America/New_York:20240118T183000
DTEND;TZID=America/New_York:20240118T200000
DTSTAMP:20260423T225438
CREATED:20231220T051320Z
LAST-MODIFIED:20240104T200355Z
UID:12728-1705602600-1705608000@vegmichigan.org
SUMMARY:EATING TO IMPROVE YOUR HEALTH AND PROTECT THE ENVIRONMENT 
DESCRIPTION:EATING TO IMPROVE YOUR HEALTH AND PROTECT THE ENVIRONMENT \nLearn how you can make small changes to your diet that will benefit your health\, protect the environment\, and improve animal welfare while still enjoying foods you love. \nWe will share practical tips on how to incorporate more plant-based meals into your lifestyle and you will have the opportunity to sample delicious plant-based pizza and salad from Toarmina’s in Canton. \nPresented by Katie Johnson and Kim Korona. Katie Johnson holds a M.S. in Humane Leadership from Humane Society University and Kim Korona has a M.Ed. from Cambridge College in affiliation with the Institute for Humane Education. \nREGISTRATION REQUIRED – Register here – https://cantonpl.bibliocommons.com/events/657880afb6d9893800835d53
URL:https://vegmichigan.org/event/plant-based-101-presentation-at-the-canton-library/
LOCATION:1200 Canton Ctr Rd · Canton\, MI
ATTACH;FMTTYPE=image/jpeg:https://vegmichigan.org/wp-content/uploads/2023/12/DSC_1106-scaled.jpg
END:VEVENT
END:VCALENDAR