BEGIN:VCALENDAR
VERSION:2.0
PRODID:-//VegMichigan - ECPv5.16.1.1//NONSGML v1.0//EN
CALSCALE:GREGORIAN
METHOD:PUBLISH
X-ORIGINAL-URL:https://vegmichigan.org
X-WR-CALDESC:Events for VegMichigan
REFRESH-INTERVAL;VALUE=DURATION:PT1H
X-Robots-Tag:noindex
X-PUBLISHED-TTL:PT1H
BEGIN:VTIMEZONE
TZID:America/New_York
BEGIN:DAYLIGHT
TZOFFSETFROM:-0500
TZOFFSETTO:-0400
TZNAME:EDT
DTSTART:20240310T070000
END:DAYLIGHT
BEGIN:STANDARD
TZOFFSETFROM:-0400
TZOFFSETTO:-0500
TZNAME:EST
DTSTART:20241103T060000
END:STANDARD
END:VTIMEZONE
BEGIN:VEVENT
DTSTART;VALUE=DATE:20240121
DTEND;VALUE=DATE:20240122
DTSTAMP:20260423T225437
CREATED:20231026T190140Z
LAST-MODIFIED:20231026T190320Z
UID:12365-1705795200-1705881599@vegmichigan.org
SUMMARY:FAITH AND FOOD PANEL WITH 3 GENESIS COALITION CONGREGATIONS
DESCRIPTION:FAITH AND FOOD PANEL WITH 3 GENESIS COALITION CONGREGATIONS \nThe Faith-Based Coalition is organizing a panel on faith and food given by a Revered\, a Pastor\, and a Rabbi\, which will be followed by a kick-off to the 30-Day Plant-Based Pledge program. \nWe will give a short talk about the pledge\, our collaboration with the city of Ann Arbor\, and how adding more plant-based foods to our diets is climate-friendly.
URL:https://vegmichigan.org/event/faith-and-food-panel-with-3-genesis-coalition-congregations/
ATTACH;FMTTYPE=image/png:https://vegmichigan.org/wp-content/uploads/2023/10/Faith-and-Food-Panel-Jan.-21.png
END:VEVENT
END:VCALENDAR