BEGIN:VCALENDAR
VERSION:2.0
PRODID:-//VegMichigan - ECPv5.16.1.1//NONSGML v1.0//EN
CALSCALE:GREGORIAN
METHOD:PUBLISH
X-WR-CALNAME:VegMichigan
X-ORIGINAL-URL:https://vegmichigan.org
X-WR-CALDESC:Events for VegMichigan
REFRESH-INTERVAL;VALUE=DURATION:PT1H
X-Robots-Tag:noindex
X-PUBLISHED-TTL:PT1H
BEGIN:VTIMEZONE
TZID:America/New_York
BEGIN:DAYLIGHT
TZOFFSETFROM:-0500
TZOFFSETTO:-0400
TZNAME:EDT
DTSTART:20240310T070000
END:DAYLIGHT
BEGIN:STANDARD
TZOFFSETFROM:-0400
TZOFFSETTO:-0500
TZNAME:EST
DTSTART:20241103T060000
END:STANDARD
END:VTIMEZONE
BEGIN:VEVENT
DTSTART;TZID=America/New_York:20240129T183000
DTEND;TZID=America/New_York:20240129T190000
DTSTAMP:20260423T225316
CREATED:20231206T052836Z
LAST-MODIFIED:20231228T171429Z
UID:12487-1706553000-1706554800@vegmichigan.org
SUMMARY:ANN ARBOR LIBRARY PLEDGE & PRESENTATION (WESTGATE BRANCH)
DESCRIPTION:ANN ARBOR LIBRARY PLEDGE & PRESENTATION (WESTGATE BRANCH) \nAre you interested in eating more plant-based foods? Attend a brief talk about how eating more plant-based is climate-friendly\, beneficial to animals\, and can improve your health. \n \nSign up for our 30-day pledge to eat more plant-based meals and receive a free bag of delicious\, popular plant-based items. \n\nREGISTRATION REQUIRED – Sign up HERE
URL:https://vegmichigan.org/event/ann-arbor-library-pledge-presentation-westgate-branch/
LOCATION:2503 Jackson Ave\, Ann Arbor\, MI 48103
CATEGORIES:Ann Arbor Pledge
ATTACH;FMTTYPE=image/jpeg:https://vegmichigan.org/wp-content/uploads/2023/10/IMG_2446-scaled.jpeg
END:VEVENT
END:VCALENDAR