BEGIN:VCALENDAR
VERSION:2.0
PRODID:-//VegMichigan - ECPv5.16.1.1//NONSGML v1.0//EN
CALSCALE:GREGORIAN
METHOD:PUBLISH
X-WR-CALNAME:VegMichigan
X-ORIGINAL-URL:https://vegmichigan.org
X-WR-CALDESC:Events for VegMichigan
REFRESH-INTERVAL;VALUE=DURATION:PT1H
X-Robots-Tag:noindex
X-PUBLISHED-TTL:PT1H
BEGIN:VTIMEZONE
TZID:America/New_York
BEGIN:DAYLIGHT
TZOFFSETFROM:-0500
TZOFFSETTO:-0400
TZNAME:EDT
DTSTART:20240310T070000
END:DAYLIGHT
BEGIN:STANDARD
TZOFFSETFROM:-0400
TZOFFSETTO:-0500
TZNAME:EST
DTSTART:20241103T060000
END:STANDARD
END:VTIMEZONE
BEGIN:VEVENT
DTSTART;TZID=America/New_York:20240203T130000
DTEND;TZID=America/New_York:20240203T150000
DTSTAMP:20260423T225414
CREATED:20240111T172237Z
LAST-MODIFIED:20240111T172237Z
UID:12868-1706965200-1706972400@vegmichigan.org
SUMMARY:TRAVERSE CITY MONTHLY MEETUP - TACO TIME!
DESCRIPTION:TRAVERSE CITY MONTHLY MEETUP – TACO TIME! \nWant a custom-designed vegan taco? At Barrio\, YOU get to select from delicious protein options such as chili or BBQ tofu\, pan-seared portobellos or beer-braised black beans topped off with all your favorite fixings! \nTacos are ordered and prepared individually so come when you want\, open a tab\, and order as many as you want! \nVegMichigan – Traverse City (TC) is your source for all things plant-based in TC. Whether you’re fully plant-based\, vegetarian\, veg-curious\, or looking to support veg friends and family\, all are welcome to join this group and attend our events. Hope to see you soon! \nLearn more and RSVP on the Traverse City VegMichigan Meetup – https://www.meetup.com/traverse-city-vegmichigan-meetup/events/298469166/
URL:https://vegmichigan.org/event/12868/
ATTACH;FMTTYPE=image/webp:https://vegmichigan.org/wp-content/uploads/2024/01/600_518423761.webp
END:VEVENT
END:VCALENDAR