BEGIN:VCALENDAR
VERSION:2.0
PRODID:-//VegMichigan - ECPv5.16.1.1//NONSGML v1.0//EN
CALSCALE:GREGORIAN
METHOD:PUBLISH
X-ORIGINAL-URL:https://vegmichigan.org
X-WR-CALDESC:Events for VegMichigan
REFRESH-INTERVAL;VALUE=DURATION:PT1H
X-Robots-Tag:noindex
X-PUBLISHED-TTL:PT1H
BEGIN:VTIMEZONE
TZID:America/New_York
BEGIN:DAYLIGHT
TZOFFSETFROM:-0500
TZOFFSETTO:-0400
TZNAME:EDT
DTSTART:20240310T070000
END:DAYLIGHT
BEGIN:STANDARD
TZOFFSETFROM:-0400
TZOFFSETTO:-0500
TZNAME:EST
DTSTART:20241103T060000
END:STANDARD
END:VTIMEZONE
BEGIN:VEVENT
DTSTART;TZID=America/New_York:20240208T183000
DTEND;TZID=America/New_York:20240208T193000
DTSTAMP:20260424T001822
CREATED:20231211T062854Z
LAST-MODIFIED:20231219T173336Z
UID:12522-1707417000-1707420600@vegmichigan.org
SUMMARY:10 TASTY WAYS TO BOOST BRAIN HEALTH AND MOOD
DESCRIPTION:10 TASTY WAYS TO BOOST BRAIN HEALTH AND MOOD \nLearn about 10 simple and tasty things you can do every single day that can support a healthy brain and happy mood. \nPresented by Nichole Dandrea-Russert\, MS\, RDN\, plant-based dietitian nutritionist\, and founder of purelyplanted.com \nNichole Dandrea-Russert\, MS\, RDN\, is a plant-based dietitian nutritionist who is passionate about plant-based eating for the body and the mind\, as well as the health of the planet. She specializes in food for mood\, sleep\, and hormonal balance. She is a nutrition spokesperson for The Weather Channel\, author of The Fiber Effect and The Vegan Athlete’s Nutrition Handbook\, and co-author of Real Superfoods Cookbook. She lives in Atlanta with her husband and rescue pup\, Mariposa. \nJoin us on Zoom here – https://us06web.zoom.us/j/85709830512
URL:https://vegmichigan.org/event/10-tasty-ways-to-boost-brain-health-and-mood/
ATTACH;FMTTYPE=image/jpeg:https://vegmichigan.org/wp-content/uploads/2023/12/food-for-mood.jpg
END:VEVENT
END:VCALENDAR