BEGIN:VCALENDAR
VERSION:2.0
PRODID:-//VegMichigan - ECPv5.16.1.1//NONSGML v1.0//EN
CALSCALE:GREGORIAN
METHOD:PUBLISH
X-ORIGINAL-URL:https://vegmichigan.org
X-WR-CALDESC:Events for VegMichigan
REFRESH-INTERVAL;VALUE=DURATION:PT1H
X-Robots-Tag:noindex
X-PUBLISHED-TTL:PT1H
BEGIN:VTIMEZONE
TZID:America/New_York
BEGIN:DAYLIGHT
TZOFFSETFROM:-0500
TZOFFSETTO:-0400
TZNAME:EDT
DTSTART:20240310T070000
END:DAYLIGHT
BEGIN:STANDARD
TZOFFSETFROM:-0400
TZOFFSETTO:-0500
TZNAME:EST
DTSTART:20241103T060000
END:STANDARD
END:VTIMEZONE
BEGIN:VEVENT
DTSTART;TZID=America/New_York:20240218T113000
DTEND;TZID=America/New_York:20240218T120000
DTSTAMP:20260424T001822
CREATED:20231206T053422Z
LAST-MODIFIED:20231228T171359Z
UID:12489-1708255800-1708257600@vegmichigan.org
SUMMARY:ANN ARBOR LIBRARY PLEDGE & PRESENTATION (MALLETTS CREEK BRANCH)
DESCRIPTION:ANN ARBOR LIBRARY PLEDGE & PRESENTATION (MALLETTS CREEK BRANCH) \nAre you interested in eating more plant-based foods? Attend a brief talk about how eating more plant-based is climate-friendly\, beneficial to animals\, and can improve your health. \n \nSign up for our 30-day pledge to eat more plant-based meals and receive a free bag of delicious\, popular plant-based items. \n\nREGISTRATION REQUIRED – Sign up HERE
URL:https://vegmichigan.org/event/ann-arbor-library-pledge-presentation-malletts-creek-branch/
LOCATION:3090 E Eisenhower Pkwy\, Ann Arbor\, MI 48108
CATEGORIES:Ann Arbor Pledge
ATTACH;FMTTYPE=image/jpeg:https://vegmichigan.org/wp-content/uploads/2023/08/20230720_173519-scaled.jpg
END:VEVENT
END:VCALENDAR