BEGIN:VCALENDAR
VERSION:2.0
PRODID:-//VegMichigan - ECPv5.16.1.1//NONSGML v1.0//EN
CALSCALE:GREGORIAN
METHOD:PUBLISH
X-ORIGINAL-URL:https://vegmichigan.org
X-WR-CALDESC:Events for VegMichigan
REFRESH-INTERVAL;VALUE=DURATION:PT1H
X-Robots-Tag:noindex
X-PUBLISHED-TTL:PT1H
BEGIN:VTIMEZONE
TZID:America/New_York
BEGIN:DAYLIGHT
TZOFFSETFROM:-0500
TZOFFSETTO:-0400
TZNAME:EDT
DTSTART:20240310T070000
END:DAYLIGHT
BEGIN:STANDARD
TZOFFSETFROM:-0400
TZOFFSETTO:-0500
TZNAME:EST
DTSTART:20241103T060000
END:STANDARD
END:VTIMEZONE
BEGIN:VEVENT
DTSTART;VALUE=DATE:20240221
DTEND;VALUE=DATE:20240222
DTSTAMP:20260424T001821
CREATED:20240201T154333Z
LAST-MODIFIED:20240201T154632Z
UID:12976-1708473600-1708559999@vegmichigan.org
SUMMARY:CITIZENS CLIMATE LOBBY LANSING CHAPTER
DESCRIPTION:CITIZENS CLIMATE LOBBY LANSING CHAPTER \nWe will give a presentation about the benefits of eating plant-based for our health and the environment\, with a focus on mitigating climate change. We will also discuss pending Michigan bills that will incentivize the expansion of factory farms and how we can take action on that legislation. Attendees who are new to plant-based eating will have the opportunity to participate in our 30-day plant-based pledge.
URL:https://vegmichigan.org/event/citizens-climate-lobby-lansing-chapter/
ATTACH;FMTTYPE=image/jpeg:https://vegmichigan.org/wp-content/uploads/2024/02/Presentation-Food-and-Carbon.jpg
END:VEVENT
END:VCALENDAR