BEGIN:VCALENDAR
VERSION:2.0
PRODID:-//VegMichigan - ECPv5.16.1.1//NONSGML v1.0//EN
CALSCALE:GREGORIAN
METHOD:PUBLISH
X-ORIGINAL-URL:https://vegmichigan.org
X-WR-CALDESC:Events for VegMichigan
REFRESH-INTERVAL;VALUE=DURATION:PT1H
X-Robots-Tag:noindex
X-PUBLISHED-TTL:PT1H
BEGIN:VTIMEZONE
TZID:America/New_York
BEGIN:DAYLIGHT
TZOFFSETFROM:-0500
TZOFFSETTO:-0400
TZNAME:EDT
DTSTART:20240310T070000
END:DAYLIGHT
BEGIN:STANDARD
TZOFFSETFROM:-0400
TZOFFSETTO:-0500
TZNAME:EST
DTSTART:20241103T060000
END:STANDARD
END:VTIMEZONE
BEGIN:VEVENT
DTSTART;TZID=America/New_York:20240223T120000
DTEND;TZID=America/New_York:20240223T133000
DTSTAMP:20260424T001822
CREATED:20240130T153447Z
LAST-MODIFIED:20240130T153447Z
UID:12960-1708689600-1708695000@vegmichigan.org
SUMMARY:ANN ARBOR LUNCH MEETUP AT FIRST BITE
DESCRIPTION:ANN ARBOR DINNER MEETUP AT FIRST BITE \n  \n\nIn February we are changing things up and hosting a lunchtime event at First Bite! Join us and try some of their yummy\, plant-based breakfast and lunch options. \nFirst Bite\, 108 S Main St\, Ann Arbor\, MI 48104
URL:https://vegmichigan.org/event/ann-arbor-dinner-meetup-at-first-bite/
ATTACH;FMTTYPE=image/png:https://vegmichigan.org/wp-content/uploads/2024/01/First-Bite.png
END:VEVENT
END:VCALENDAR