BEGIN:VCALENDAR
VERSION:2.0
PRODID:-//VegMichigan - ECPv5.16.1.1//NONSGML v1.0//EN
CALSCALE:GREGORIAN
METHOD:PUBLISH
X-ORIGINAL-URL:https://vegmichigan.org
X-WR-CALDESC:Events for VegMichigan
REFRESH-INTERVAL;VALUE=DURATION:PT1H
X-Robots-Tag:noindex
X-PUBLISHED-TTL:PT1H
BEGIN:VTIMEZONE
TZID:America/New_York
BEGIN:DAYLIGHT
TZOFFSETFROM:-0500
TZOFFSETTO:-0400
TZNAME:EDT
DTSTART:20240310T070000
END:DAYLIGHT
BEGIN:STANDARD
TZOFFSETFROM:-0400
TZOFFSETTO:-0500
TZNAME:EST
DTSTART:20241103T060000
END:STANDARD
END:VTIMEZONE
BEGIN:VEVENT
DTSTART;TZID=America/New_York:20240406T130000
DTEND;TZID=America/New_York:20240406T150000
DTSTAMP:20260424T015743
CREATED:20240312T194908Z
LAST-MODIFIED:20240312T194908Z
UID:13133-1712408400-1712415600@vegmichigan.org
SUMMARY:TRAVERSE CITY MEETUP AT STONE HOUND BREWING CO
DESCRIPTION:TRAVERSE CITY MEETUP AT STONE HOUND BREWING CO \nPlease join us for our April Monthly Meetup at Stone Hound Brewing Co! \nStone Hound features a delicious selection of plant-based wraps\, burgers\, bowls\, and snacks. Whatever your food preference (vegetarian\, vegan\, omnivore)\, everyone is welcome. \nFood orders are taken at the bar\, so arrive when you want. We will be there from 1:00pm. \nCheck out their menu here: STONE HOUND BREWING CO. \nPlease RSVP on our Traverse City Meetup page – https://www.meetup.com/traverse-city-vegmichigan-meetup/events/299697988/
URL:https://vegmichigan.org/event/traverse-city-meetup-at-stone-hound-brewing-co-2/
ATTACH;FMTTYPE=image/webp:https://vegmichigan.org/wp-content/uploads/2024/03/600_519629216.webp
END:VEVENT
END:VCALENDAR