BEGIN:VCALENDAR
VERSION:2.0
PRODID:-//VegMichigan - ECPv5.16.1.1//NONSGML v1.0//EN
CALSCALE:GREGORIAN
METHOD:PUBLISH
X-WR-CALNAME:VegMichigan
X-ORIGINAL-URL:https://vegmichigan.org
X-WR-CALDESC:Events for VegMichigan
REFRESH-INTERVAL;VALUE=DURATION:PT1H
X-Robots-Tag:noindex
X-PUBLISHED-TTL:PT1H
BEGIN:VTIMEZONE
TZID:America/New_York
BEGIN:DAYLIGHT
TZOFFSETFROM:-0500
TZOFFSETTO:-0400
TZNAME:EDT
DTSTART:20240310T070000
END:DAYLIGHT
BEGIN:STANDARD
TZOFFSETFROM:-0400
TZOFFSETTO:-0500
TZNAME:EST
DTSTART:20241103T060000
END:STANDARD
END:VTIMEZONE
BEGIN:VEVENT
DTSTART;TZID=America/New_York:20240408T180000
DTEND;TZID=America/New_York:20240408T190000
DTSTAMP:20260424T032219
CREATED:20240321T211222Z
LAST-MODIFIED:20240401T122404Z
UID:13197-1712599200-1712602800@vegmichigan.org
SUMMARY:MICHIGANDERS FOR A JUST FARMING SYSTEM COALITION MONTHLY MEETING
DESCRIPTION:MICHIGANDERS FOR A JUST FARMING SYSTEM COALITION MONTHLY MEETING \nPlease join us on Monday\, April 8\, at 6pm for Michiganders for a Just Farming System’s monthly virtual meeting. Our special guest speaker will be Christine Ball-Blakely\, who is a senior staff attorney at The Animal Legal Defense Fund. She will speak about California’s biogas industry and discuss lessons we can learn from California’s failures \nLearn more about Michiganders for a Just Farming System – https://justfarmingsystem.com/ \nRegister in advance for this meeting:\nhttps://us06web.zoom.us/meeting/register/tZ0sd-2qrjsuGdAJWupPPUwIdEm_-TbpuP5c\nAfter registering\, you will receive a confirmation email containing information about joining the meeting.
URL:https://vegmichigan.org/event/michiganders-for-a-just-farming-system-monthly-coalition-meeting/
ATTACH;FMTTYPE=image/jpeg:https://vegmichigan.org/wp-content/uploads/2024/03/ball-blakely-1204x516-c.jpg
END:VEVENT
END:VCALENDAR