BEGIN:VCALENDAR
VERSION:2.0
PRODID:-//VegMichigan - ECPv5.16.1.1//NONSGML v1.0//EN
CALSCALE:GREGORIAN
METHOD:PUBLISH
X-ORIGINAL-URL:https://vegmichigan.org
X-WR-CALDESC:Events for VegMichigan
REFRESH-INTERVAL;VALUE=DURATION:PT1H
X-Robots-Tag:noindex
X-PUBLISHED-TTL:PT1H
BEGIN:VTIMEZONE
TZID:America/New_York
BEGIN:DAYLIGHT
TZOFFSETFROM:-0500
TZOFFSETTO:-0400
TZNAME:EDT
DTSTART:20240310T070000
END:DAYLIGHT
BEGIN:STANDARD
TZOFFSETFROM:-0400
TZOFFSETTO:-0500
TZNAME:EST
DTSTART:20241103T060000
END:STANDARD
END:VTIMEZONE
BEGIN:VEVENT
DTSTART;TZID=America/New_York:20240411T180000
DTEND;TZID=America/New_York:20240411T193000
DTSTAMP:20260424T033211
CREATED:20240229T153831Z
LAST-MODIFIED:20240322T182210Z
UID:13075-1712858400-1712863800@vegmichigan.org
SUMMARY:DETROIT DINNER MEETUP AT DETROIT SHIPPING CO.
DESCRIPTION:DETROIT DINNER MEETUP AT DETROIT SHIPPING CO. \nSpend your Thursday night with VegMichigan at Detroit Shipping Co.! Sample delicious plant-based options from Bangkok 96 Street Food\, Coop Caribbean Fusion\, and Momo Cha. Wow! \nEveryone is welcome at VegMichigan Meetups\, but we do ask that you enjoy a vegan meal while attending our events. We hope you are able to join us! \nPlease RSVP on our VegMichigan Detroit Meetup group – https://www.meetup.com/vegmichigan-metro-detroit-meetup/events/299489087/ \nQuestions or comments about these Meetups? Feel free to contact Katie Johnson at katie@vegmichigan.org.
URL:https://vegmichigan.org/event/detroit-dinner-meetup-at-detroit-shipping-co/
ATTACH;FMTTYPE=image/png:https://vegmichigan.org/wp-content/uploads/2024/02/Detroit-Shipping-Co.png
END:VEVENT
END:VCALENDAR