BEGIN:VCALENDAR
VERSION:2.0
PRODID:-//VegMichigan - ECPv5.16.1.1//NONSGML v1.0//EN
CALSCALE:GREGORIAN
METHOD:PUBLISH
X-WR-CALNAME:VegMichigan
X-ORIGINAL-URL:https://vegmichigan.org
X-WR-CALDESC:Events for VegMichigan
REFRESH-INTERVAL;VALUE=DURATION:PT1H
X-Robots-Tag:noindex
X-PUBLISHED-TTL:PT1H
BEGIN:VTIMEZONE
TZID:America/New_York
BEGIN:DAYLIGHT
TZOFFSETFROM:-0500
TZOFFSETTO:-0400
TZNAME:EDT
DTSTART:20240310T070000
END:DAYLIGHT
BEGIN:STANDARD
TZOFFSETFROM:-0400
TZOFFSETTO:-0500
TZNAME:EST
DTSTART:20241103T060000
END:STANDARD
END:VTIMEZONE
BEGIN:VEVENT
DTSTART;VALUE=DATE:20240418
DTEND;VALUE=DATE:20240419
DTSTAMP:20260424T033127
CREATED:20240409T142201Z
LAST-MODIFIED:20240409T142201Z
UID:13480-1713398400-1713484799@vegmichigan.org
SUMMARY:MADONNA UNIVERSITY'S ALTERNATIVE EATS FAIR
DESCRIPTION:MADONNA UNIVERSITY’S ALTERNATIVE EATS FAIR\n\nMadonna University’s\, MU Sustainability organization is hosting an Alternative Eats fair for students.\n\nThey will have information about plant-based eating and VegMichigan will have a table with information and students will have an opportunity to sign-up for our 30 day plant-based pledge.
URL:https://vegmichigan.org/event/madonna-universitys-alternative-eats-fair/
ATTACH;FMTTYPE=image/jpeg:https://vegmichigan.org/wp-content/uploads/2024/04/Alternative-Eats-Fair.jpg
END:VEVENT
BEGIN:VEVENT
DTSTART;TZID=America/New_York:20240418T180000
DTEND;TZID=America/New_York:20240418T193000
DTSTAMP:20260424T033127
CREATED:20240326T144158Z
LAST-MODIFIED:20240326T144259Z
UID:13244-1713463200-1713468600@vegmichigan.org
SUMMARY:LANSING DINNER MEETUP AT VEG HEAD
DESCRIPTION:LANSING DINNER MEETUP AT VEG HEAD \nFor our April Meetup\, VegMichigan Lansing is headed to Veg Head! Choose from many scrumptious options on their completely plant-based menu. Yum!! \nPlease RSVP on our Lansing Meetup page – https://www.meetup.com/vegmichigan-greater-lansing/events/299978406/ \nQuestions or comments about these Meetups? Feel free to contact Katie Johnson at katie@vegmichigan.org.
URL:https://vegmichigan.org/event/lansing-dinner-meetup-at-veg-head/
ATTACH;FMTTYPE=image/png:https://vegmichigan.org/wp-content/uploads/2024/03/Screenshot-2024-03-23-at-6.51.04-PM.png
END:VEVENT
BEGIN:VEVENT
DTSTART;TZID=America/New_York:20240418T183000
DTEND;TZID=America/New_York:20240418T200000
DTSTAMP:20260424T033127
CREATED:20240401T114807Z
LAST-MODIFIED:20240401T121304Z
UID:13378-1713465000-1713470400@vegmichigan.org
SUMMARY:Clawson DInner MEETUP at MoJave CantIna
DESCRIPTION:Did somebody say\, “Avocado Tacos?” Join us at Mojave Cantina for Always Fresh Tex-Mex style food in a fun and relaxing environment! Check out the menu online. Items can be made vegan and/or gluten-free. Ask your server about altering a menu item to suit your dietary needs. Have a good time enjoying good food with good company! \nSign Up Here \nFor Questions contact Katie Johnson at katie@vegmichigan.org \n 
URL:https://vegmichigan.org/event/clawson-dinner-meetup-at-mojave-cantina/
LOCATION:Mojave Cantina\, 48 W 14 Mile Rd\, Clawson\, michigan\, 48017\, United States
ATTACH;FMTTYPE=image/png:https://vegmichigan.org/wp-content/uploads/2024/04/Mojave-Cantina-1-e1711972288838.png
END:VEVENT
END:VCALENDAR