BEGIN:VCALENDAR
VERSION:2.0
PRODID:-//VegMichigan - ECPv5.16.1.1//NONSGML v1.0//EN
CALSCALE:GREGORIAN
METHOD:PUBLISH
X-WR-CALNAME:VegMichigan
X-ORIGINAL-URL:https://vegmichigan.org
X-WR-CALDESC:Events for VegMichigan
REFRESH-INTERVAL;VALUE=DURATION:PT1H
X-Robots-Tag:noindex
X-PUBLISHED-TTL:PT1H
BEGIN:VTIMEZONE
TZID:America/New_York
BEGIN:DAYLIGHT
TZOFFSETFROM:-0500
TZOFFSETTO:-0400
TZNAME:EDT
DTSTART:20240310T070000
END:DAYLIGHT
BEGIN:STANDARD
TZOFFSETFROM:-0400
TZOFFSETTO:-0500
TZNAME:EST
DTSTART:20241103T060000
END:STANDARD
END:VTIMEZONE
BEGIN:VEVENT
DTSTART;TZID=America/New_York:20240419T180000
DTEND;TZID=America/New_York:20240419T200000
DTSTAMP:20260424T033127
CREATED:20240329T175526Z
LAST-MODIFIED:20240402T154019Z
UID:13361-1713549600-1713556800@vegmichigan.org
SUMMARY:Earth Awareness Month DInner and EducatIonal Program
DESCRIPTION:Westminster Presbyterian Church is hosting this Earth Awareness event and VegMichigan will sponsor a plant-based meal\, provide a presentation titled\, “Veggie Vibes: Discover the Benefits of Plant-Based Eating\,” which will be followed by a Solar presentation. Attendees who are new to plant-based eating and interested in trying plant-based items that are new to them are invited to sign-up for VegMichigan’s 30 day plant-based pledge and receive a FREE bag of plant-based items. This event is open to the public.
URL:https://vegmichigan.org/event/earth-awareness-month-dinner-and-educational-program/
LOCATION:Westminster Presbyterian Church\, 1500 Scio Church Rd\, Ann Arbor\, MI\, United States
CATEGORIES:A2Zero webpage
ATTACH;FMTTYPE=image/png:https://vegmichigan.org/wp-content/uploads/2024/03/Presbyterian-Church-Earth-Care.png
END:VEVENT
END:VCALENDAR