BEGIN:VCALENDAR
VERSION:2.0
PRODID:-//VegMichigan - ECPv5.16.1.1//NONSGML v1.0//EN
CALSCALE:GREGORIAN
METHOD:PUBLISH
X-ORIGINAL-URL:https://vegmichigan.org
X-WR-CALDESC:Events for VegMichigan
REFRESH-INTERVAL;VALUE=DURATION:PT1H
X-Robots-Tag:noindex
X-PUBLISHED-TTL:PT1H
BEGIN:VTIMEZONE
TZID:America/New_York
BEGIN:DAYLIGHT
TZOFFSETFROM:-0500
TZOFFSETTO:-0400
TZNAME:EDT
DTSTART:20240310T070000
END:DAYLIGHT
BEGIN:STANDARD
TZOFFSETFROM:-0400
TZOFFSETTO:-0500
TZNAME:EST
DTSTART:20241103T060000
END:STANDARD
END:VTIMEZONE
BEGIN:VEVENT
DTSTART;TZID=America/New_York:20240421T130000
DTEND;TZID=America/New_York:20240421T160000
DTSTAMP:20260424T032611
CREATED:20240329T181223Z
LAST-MODIFIED:20240402T153934Z
UID:13372-1713704400-1713715200@vegmichigan.org
SUMMARY:Earth Day Festival
DESCRIPTION:Come to the Ann Arbor free and family-friendly Earth Day Festival at Leslie Science & Nature Center which brings together organizations from across Ann Arbor & Washtenaw County for one large celebration. Local environmental\, non-profit\, and government organizations will be there with opportunities to learn about living more sustainably. There will also be live entertainment\, crafts\, green building and commuting solutions\, energy topics\, water awareness\, recycling topics\, and we will have a table to promote the environmental benefits of plant-based living.
URL:https://vegmichigan.org/event/earth-day-festival/
LOCATION:Leslie Nature Center\, 1831 Traver Rd\, Ann Arbor\, 48105\, United States
CATEGORIES:A2Zero webpage
ATTACH;FMTTYPE=image/png:https://vegmichigan.org/wp-content/uploads/2024/03/Leslie-Nature-Center-Earth-Day-Festival.png
END:VEVENT
END:VCALENDAR