BEGIN:VCALENDAR
VERSION:2.0
PRODID:-//VegMichigan - ECPv5.16.1.1//NONSGML v1.0//EN
CALSCALE:GREGORIAN
METHOD:PUBLISH
X-ORIGINAL-URL:https://vegmichigan.org
X-WR-CALDESC:Events for VegMichigan
REFRESH-INTERVAL;VALUE=DURATION:PT1H
X-Robots-Tag:noindex
X-PUBLISHED-TTL:PT1H
BEGIN:VTIMEZONE
TZID:America/New_York
BEGIN:DAYLIGHT
TZOFFSETFROM:-0500
TZOFFSETTO:-0400
TZNAME:EDT
DTSTART:20240310T070000
END:DAYLIGHT
BEGIN:STANDARD
TZOFFSETFROM:-0400
TZOFFSETTO:-0500
TZNAME:EST
DTSTART:20241103T060000
END:STANDARD
END:VTIMEZONE
BEGIN:VEVENT
DTSTART;TZID=America/New_York:20240427T180000
DTEND;TZID=America/New_York:20240427T210000
DTSTAMP:20260424T033211
CREATED:20240321T181953Z
LAST-MODIFIED:20240326T141301Z
UID:13187-1714240800-1714251600@vegmichigan.org
SUMMARY:THE SMELL OF MONEY FILM SCREENING IN TRAVERSE CITY
DESCRIPTION:THE SMELL OF MONEY FILM SCREENING IN TRAVERSE CITY \nJoin us for a second screening of this powerful environmental justice film featuring rural residents who take on large-scale animal agriculture to preserve the health and wellbeing of themselves\, their community\, and the environment. \nCarrie La Seur\, from For Love of Water (FLOW)\, will present following the film. \nThis event is made possible by Old Town Playhouse\, Michiganders for a Just Farming System\, Attorneys for Animals\, State Bar of Michigan Animal Law Section\, MICCA\, FLOW\, and VegMichigan. \nJoin us at Old Town Playhouse\, 148 East Eighth Street\, Traverse City \nLearn more about the film here – https://www.smellofmoneydoc.com/
URL:https://vegmichigan.org/event/13187/
LOCATION:Old Town Playhouse\, 148 East Eighth Street\, Traverse City
ATTACH;FMTTYPE=image/jpeg:https://vegmichigan.org/wp-content/uploads/2024/03/Smell-of-Money-Screening.jpg
END:VEVENT
END:VCALENDAR