BEGIN:VCALENDAR
VERSION:2.0
PRODID:-//VegMichigan - ECPv5.16.1.1//NONSGML v1.0//EN
CALSCALE:GREGORIAN
METHOD:PUBLISH
X-WR-CALNAME:VegMichigan
X-ORIGINAL-URL:https://vegmichigan.org
X-WR-CALDESC:Events for VegMichigan
REFRESH-INTERVAL;VALUE=DURATION:PT1H
X-Robots-Tag:noindex
X-PUBLISHED-TTL:PT1H
BEGIN:VTIMEZONE
TZID:America/New_York
BEGIN:DAYLIGHT
TZOFFSETFROM:-0500
TZOFFSETTO:-0400
TZNAME:EDT
DTSTART:20240310T070000
END:DAYLIGHT
BEGIN:STANDARD
TZOFFSETFROM:-0400
TZOFFSETTO:-0500
TZNAME:EST
DTSTART:20241103T060000
END:STANDARD
END:VTIMEZONE
BEGIN:VEVENT
DTSTART;VALUE=DATE:20240516
DTEND;VALUE=DATE:20240517
DTSTAMP:20260424T050634
CREATED:20240423T144337Z
LAST-MODIFIED:20240423T144337Z
UID:13525-1715817600-1715903999@vegmichigan.org
SUMMARY:TABLING AT MICHIGAN STATE UNIVERSITY
DESCRIPTION:TABLING AT MICHIGAN STATE UNIVERSITY \nVegMichigan will be tabling and giving out plant-based samples from the popular Veg Head restaurant at an on-campus event hosted by the Lifestyle Medicine Interest Group at Michigan State University.
URL:https://vegmichigan.org/event/tabling-at-michigan-state-university/
ATTACH;FMTTYPE=image/jpeg:https://vegmichigan.org/wp-content/uploads/2024/04/Michigan-State-University-logo.jpg
END:VEVENT
BEGIN:VEVENT
DTSTART;TZID=America/New_York:20240516T183000
DTEND;TZID=America/New_York:20240516T200000
DTSTAMP:20260424T050634
CREATED:20240430T175116Z
LAST-MODIFIED:20240430T175652Z
UID:13573-1715884200-1715889600@vegmichigan.org
SUMMARY:SOUTHFIELD MEETUP AT TASTE OF ETHIOPIA
DESCRIPTION:SOUTHFIELD MEETUP AT TASTE OF ETHIOPIA \nJoin us for a VegMichigan Meetup in Southfield! \nA visit to Taste of Ethiopia is more than just trying out a new restaurant. Taste of Ethiopia is like visiting family. Family that embraces your individuality and accommodates your requests. \nYou’ll find plenty of vegan options on the menu. Made with natural\, whole ingredients. \nPlease RSVP on our Meetup page – https://www.meetup.com/vegmichigan-metro-detroit-meetup/events/300644802/ \nTaste of Ethiopia\, 28639 Northwestern Hwy\, Southfield\, MI 48034
URL:https://vegmichigan.org/event/southfield-meetup-at-taste-of-ethiopia/
LOCATION:Taste of Ethiopia\, 28639 Northwestern Hwy\, Southfield\, MI 48034
ATTACH;FMTTYPE=image/jpeg:https://vegmichigan.org/wp-content/uploads/2024/04/Taste-of-Ethiopia.jpg
END:VEVENT
END:VCALENDAR