BEGIN:VCALENDAR
VERSION:2.0
PRODID:-//VegMichigan - ECPv5.16.1.1//NONSGML v1.0//EN
CALSCALE:GREGORIAN
METHOD:PUBLISH
X-ORIGINAL-URL:https://vegmichigan.org
X-WR-CALDESC:Events for VegMichigan
REFRESH-INTERVAL;VALUE=DURATION:PT1H
X-Robots-Tag:noindex
X-PUBLISHED-TTL:PT1H
BEGIN:VTIMEZONE
TZID:America/New_York
BEGIN:DAYLIGHT
TZOFFSETFROM:-0500
TZOFFSETTO:-0400
TZNAME:EDT
DTSTART:20240310T070000
END:DAYLIGHT
BEGIN:STANDARD
TZOFFSETFROM:-0400
TZOFFSETTO:-0500
TZNAME:EST
DTSTART:20241103T060000
END:STANDARD
END:VTIMEZONE
BEGIN:VEVENT
DTSTART;TZID=America/New_York:20240521T180000
DTEND;TZID=America/New_York:20240521T193000
DTSTAMP:20260424T050757
CREATED:20240423T144001Z
LAST-MODIFIED:20240423T191753Z
UID:13521-1716314400-1716319800@vegmichigan.org
SUMMARY:DETROIT DINNER CLUB AT BAOBAB FARE
DESCRIPTION:DETROIT DINNER CLUB AT BAOBAB FARE \nJoin us for some fabulous East African food at Baobab Fare\, recognized by The Detroit Free Press\, Esquire\, The New York Times\, and the James Beard Foundation! Bonus: On Tuesdays and Wednesdays\, the restaurant offers additional plant-based specials beyond their regular menu offerings. \nEveryone is welcome at VegMichigan Meetups\, but we do ask that you enjoy a vegan meal while attending our events. Each person will order off the menu and is responsible for the cost of their meal. We hope you are able to join us! \nPlease RSVP on our Detroit Meetup group – https://www.meetup.com/vegmichigan-metro-detroit-meetup/events/300498438/
URL:https://vegmichigan.org/event/detroit-dinner-club-at-baobab-fare/
ATTACH;FMTTYPE=image/webp:https://vegmichigan.org/wp-content/uploads/2024/04/600_520484273.webp
END:VEVENT
END:VCALENDAR