BEGIN:VCALENDAR
VERSION:2.0
PRODID:-//VegMichigan - ECPv5.16.1.1//NONSGML v1.0//EN
CALSCALE:GREGORIAN
METHOD:PUBLISH
X-WR-CALNAME:VegMichigan
X-ORIGINAL-URL:https://vegmichigan.org
X-WR-CALDESC:Events for VegMichigan
REFRESH-INTERVAL;VALUE=DURATION:PT1H
X-Robots-Tag:noindex
X-PUBLISHED-TTL:PT1H
BEGIN:VTIMEZONE
TZID:America/New_York
BEGIN:DAYLIGHT
TZOFFSETFROM:-0500
TZOFFSETTO:-0400
TZNAME:EDT
DTSTART:20240310T070000
END:DAYLIGHT
BEGIN:STANDARD
TZOFFSETFROM:-0400
TZOFFSETTO:-0500
TZNAME:EST
DTSTART:20241103T060000
END:STANDARD
END:VTIMEZONE
BEGIN:VEVENT
DTSTART;TZID=America/New_York:20240602T100000
DTEND;TZID=America/New_York:20240602T160000
DTSTAMP:20260424T063821
CREATED:20240111T170903Z
LAST-MODIFIED:20240116T144232Z
UID:12864-1717322400-1717344000@vegmichigan.org
SUMMARY:VEGMICHIGAN'S SPRING VEGFEST
DESCRIPTION:VEGMICHIGAN’S SPRING VEGFEST \nJoin us on Sunday\, June 2nd at Eastern Market for our annual Spring VegFest! \nThere will be nearly 100 food\, shopping\, and non-profit vendors\, free samples\, cooking demos\, a kid zone\, and more! \nLearn more here!
URL:https://vegmichigan.org/event/vegmichigans-spring-vegfest/
ATTACH;FMTTYPE=image/jpeg:https://vegmichigan.org/wp-content/uploads/2024/01/VegFest-6-4-23-Joe-Maroon-Photography-292-scaled.jpg
END:VEVENT
END:VCALENDAR