BEGIN:VCALENDAR
VERSION:2.0
PRODID:-//VegMichigan - ECPv5.16.1.1//NONSGML v1.0//EN
CALSCALE:GREGORIAN
METHOD:PUBLISH
X-ORIGINAL-URL:https://vegmichigan.org
X-WR-CALDESC:Events for VegMichigan
REFRESH-INTERVAL;VALUE=DURATION:PT1H
X-Robots-Tag:noindex
X-PUBLISHED-TTL:PT1H
BEGIN:VTIMEZONE
TZID:America/New_York
BEGIN:DAYLIGHT
TZOFFSETFROM:-0500
TZOFFSETTO:-0400
TZNAME:EDT
DTSTART:20240310T070000
END:DAYLIGHT
BEGIN:STANDARD
TZOFFSETFROM:-0400
TZOFFSETTO:-0500
TZNAME:EST
DTSTART:20241103T060000
END:STANDARD
END:VTIMEZONE
BEGIN:VEVENT
DTSTART;TZID=America/New_York:20240610T170000
DTEND;TZID=America/New_York:20240610T180000
DTSTAMP:20260424T063842
CREATED:20240528T154146Z
LAST-MODIFIED:20240528T154146Z
UID:13762-1718038800-1718042400@vegmichigan.org
SUMMARY:ANN ARBOR WARD TWO NEIGHBORHOOD A2ZERO PARTY
DESCRIPTION:ANN ARBOR WARD TWO NEIGHBORHOOD A2ZERO PARTY \nJoin us\, representatives from Ann Arbor’s Office of Sustainability and Innovations\, and A2ZERO Ambassadors as we celebrate A2ZERO week in Ward 2! \nThis family friendly event will be an opportunity to have a tasty treat\, work on a family emergency preparedness plan\, learn more about what is happening to help our community become carbon neutral\, and uncover ways to advance sustainability in your home. \nAll are welcome to join this free event.
URL:https://vegmichigan.org/event/ann-arbor-ward-two-neighborhood-a2zero-party/
LOCATION:Sugarbush Park\, 3349 Yellowstone Dr\, Ann Arbor\, MI 48105
CATEGORIES:A2Zero webpage
ATTACH;FMTTYPE=image/jpeg:https://vegmichigan.org/wp-content/uploads/2024/05/20230908_180441-scaled.jpg
END:VEVENT
BEGIN:VEVENT
DTSTART;TZID=America/New_York:20240610T180000
DTEND;TZID=America/New_York:20240610T190000
DTSTAMP:20260424T063842
CREATED:20240321T212314Z
LAST-MODIFIED:20240321T212314Z
UID:13211-1718042400-1718046000@vegmichigan.org
SUMMARY:MICHIGANDERS FOR A JUST FARMING SYSTEM COALITION MONTHLY MEETING
DESCRIPTION:MICHIGANDERS FOR A JUST FARMING SYSTEM COALITION MONTHLY MEETING \nJoin us for the Michiganders for a Just Farming System coalition’s monthly meeting. Everyone is welcome! \nLearn more about Michiganders for a Just Farming System – https://justfarmingsystem.com/ \nRegister in advance for this meeting:\nhttps://us06web.zoom.us/meeting/register/tZ0sd-2qrjsuGdAJWupPPUwIdEm_-TbpuP5c\nAfter registering\, you will receive a confirmation email containing information about joining the meeting.
URL:https://vegmichigan.org/event/michiganders-for-a-just-farming-system-coalition-monthly-meeting/
ATTACH;FMTTYPE=image/png:https://vegmichigan.org/wp-content/uploads/2024/03/Screenshot-2024-03-21-at-5.09.45-PM.png
END:VEVENT
END:VCALENDAR