BEGIN:VCALENDAR
VERSION:2.0
PRODID:-//VegMichigan - ECPv5.16.1.1//NONSGML v1.0//EN
CALSCALE:GREGORIAN
METHOD:PUBLISH
X-ORIGINAL-URL:https://vegmichigan.org
X-WR-CALDESC:Events for VegMichigan
REFRESH-INTERVAL;VALUE=DURATION:PT1H
X-Robots-Tag:noindex
X-PUBLISHED-TTL:PT1H
BEGIN:VTIMEZONE
TZID:America/New_York
BEGIN:DAYLIGHT
TZOFFSETFROM:-0500
TZOFFSETTO:-0400
TZNAME:EDT
DTSTART:20240310T070000
END:DAYLIGHT
BEGIN:STANDARD
TZOFFSETFROM:-0400
TZOFFSETTO:-0500
TZNAME:EST
DTSTART:20241103T060000
END:STANDARD
END:VTIMEZONE
BEGIN:VEVENT
DTSTART;TZID=America/New_York:20240611T100000
DTEND;TZID=America/New_York:20240611T120000
DTSTAMP:20260424T063842
CREATED:20240507T202023Z
LAST-MODIFIED:20240507T202023Z
UID:13610-1718100000-1718107200@vegmichigan.org
SUMMARY:LOVE A PARK DAY AT NORTHSIDE PARK AND COMMUNITY CENTER
DESCRIPTION:LOVE A PARK DAY AT NORTHSIDE PARK AND COMMUNITY CENTER\n\nVegMichigan will serve a plant-based lunch to park clean-up volunteers.\n\nIf you are interested in volunteering to help clean-up the park visit https://www.trumba.com/calendars/city-of-ann-arbor-events-parks-and-recreation-give-365?eventid=174419769
URL:https://vegmichigan.org/event/13610/
CATEGORIES:A2Zero webpage
ATTACH;FMTTYPE=image/jpeg:https://vegmichigan.org/wp-content/uploads/2024/05/Love-a-Park-scaled.jpeg
END:VEVENT
BEGIN:VEVENT
DTSTART;TZID=America/New_York:20240611T173000
DTEND;TZID=America/New_York:20240611T183000
DTSTAMP:20260424T063842
CREATED:20240528T154738Z
LAST-MODIFIED:20240528T154738Z
UID:13765-1718127000-1718130600@vegmichigan.org
SUMMARY:ANN ARBOR WARD ONE NEIGHBORHOOD A2ZERO PARTY
DESCRIPTION:ANN ARBOR WARD ONE NEIGHBORHOOD A2ZERO PARTY \nJoin us\, representatives from Ann Arbor’s Office of Sustainability and Innovations\, and A2ZERO Ambassadors as we celebrate A2ZERO week in Ward 1! \nThis family friendly event will be an opportunity to have a tasty treat\, work on a family emergency preparedness plan\, learn more about what is happening to help our community become carbon neutral\, and uncover ways to advance sustainability in your home. \nAll are welcome to join this free event.
URL:https://vegmichigan.org/event/ann-arbor-ward-one-neighborhood-a2zero-party/
LOCATION:Leslie Science and Nature Center\, 1831 Traver Rd\, Ann Arbor\, MI 48105
CATEGORIES:A2Zero webpage
ATTACH;FMTTYPE=image/jpeg:https://vegmichigan.org/wp-content/uploads/2024/05/IMG_1689-scaled.jpeg
END:VEVENT
END:VCALENDAR