BEGIN:VCALENDAR
VERSION:2.0
PRODID:-//VegMichigan - ECPv5.16.1.1//NONSGML v1.0//EN
CALSCALE:GREGORIAN
METHOD:PUBLISH
X-WR-CALNAME:VegMichigan
X-ORIGINAL-URL:https://vegmichigan.org
X-WR-CALDESC:Events for VegMichigan
REFRESH-INTERVAL;VALUE=DURATION:PT1H
X-Robots-Tag:noindex
X-PUBLISHED-TTL:PT1H
BEGIN:VTIMEZONE
TZID:America/New_York
BEGIN:DAYLIGHT
TZOFFSETFROM:-0500
TZOFFSETTO:-0400
TZNAME:EDT
DTSTART:20240310T070000
END:DAYLIGHT
BEGIN:STANDARD
TZOFFSETFROM:-0400
TZOFFSETTO:-0500
TZNAME:EST
DTSTART:20241103T060000
END:STANDARD
END:VTIMEZONE
BEGIN:VEVENT
DTSTART;TZID=America/New_York:20240615T120000
DTEND;TZID=America/New_York:20240615T160000
DTSTAMP:20260424T063824
CREATED:20240507T204456Z
LAST-MODIFIED:20240507T204456Z
UID:13615-1718452800-1718467200@vegmichigan.org
SUMMARY:ANN ARBOR YMCA BLOCK PARTY
DESCRIPTION:ANN ARBOR YMCA BLOCK PARTY\n\nCome join us at the Ann Arbor YMCA Block Party. We will have a table at this family-friendly event and attendees will have an opportunity to participate in our 30-Day Plant-Based Pledge. We will also be giving away delicious plant-based samples.
URL:https://vegmichigan.org/event/13615/
CATEGORIES:A2Zero webpage
ATTACH;FMTTYPE=image/jpeg:https://vegmichigan.org/wp-content/uploads/2024/05/YMCA-Block-Party-scaled.jpg
END:VEVENT
BEGIN:VEVENT
DTSTART;TZID=America/New_York:20240615T170000
DTEND;TZID=America/New_York:20240615T210000
DTSTAMP:20260424T063824
CREATED:20240507T205054Z
LAST-MODIFIED:20240507T205054Z
UID:13619-1718470800-1718485200@vegmichigan.org
SUMMARY:A2SF (ANN ARBOR SUMMER FESTIVAL) 
DESCRIPTION:A2SF (ANN ARBOR SUMMER FESTIVAL)\n\nVegMichigan will be at A2SF with A2ZERO\, for the culminating event of A2ZERO week. We will have a table and give people an opportunity to sign-up for the 30-Day Plant-Based pledge. There will be a lot of other activities happening at this event so be sure to come to the party. We will be in the Kids Zone area\, at the Annex\, where Top of the Rock is held.\n\nFor more information visit https://www.a2gov.org/departments/sustainability/Newsletter-Events/a2zero-week/Pages/default.aspx
URL:https://vegmichigan.org/event/13619/
CATEGORIES:A2Zero webpage
ATTACH;FMTTYPE=image/jpeg:https://vegmichigan.org/wp-content/uploads/2024/05/A2SF-Summer-Festival-scaled.jpg
END:VEVENT
END:VCALENDAR