BEGIN:VCALENDAR
VERSION:2.0
PRODID:-//VegMichigan - ECPv5.16.1.1//NONSGML v1.0//EN
CALSCALE:GREGORIAN
METHOD:PUBLISH
X-ORIGINAL-URL:https://vegmichigan.org
X-WR-CALDESC:Events for VegMichigan
REFRESH-INTERVAL;VALUE=DURATION:PT1H
X-Robots-Tag:noindex
X-PUBLISHED-TTL:PT1H
BEGIN:VTIMEZONE
TZID:America/New_York
BEGIN:DAYLIGHT
TZOFFSETFROM:-0500
TZOFFSETTO:-0400
TZNAME:EDT
DTSTART:20240310T070000
END:DAYLIGHT
BEGIN:STANDARD
TZOFFSETFROM:-0400
TZOFFSETTO:-0500
TZNAME:EST
DTSTART:20241103T060000
END:STANDARD
END:VTIMEZONE
BEGIN:VEVENT
DTSTART;TZID=America/New_York:20240618T150000
DTEND;TZID=America/New_York:20240618T163000
DTSTAMP:20260424T063842
CREATED:20240610T132322Z
LAST-MODIFIED:20240610T132322Z
UID:13963-1718722800-1718728200@vegmichigan.org
SUMMARY:DETROIT MEETUP AT TRAP VEGAN
DESCRIPTION:DETROIT MEETUP AT TRAP VEGAN\n\n\nCome and join VegMichigan at Trap Vegan for some delicious\, fast-casual\, plant-based food!\n\nLocated in the Green Acres neighborhood\, Trap Vegan features a menu of plant-based burgers\, smoothies\, acai bowls\, loaded nachos\, fried cauliflower wings and more.\n\nTrap Vegan\, 20198 Livernois\, Detroit\, MI 48221\n\nRSVP Required. RSVP here – https://www.meetup.com/vegmichigan-metro-detroit-meetup/events/301509492/?isFirstPublish=true
URL:https://vegmichigan.org/event/detroit-meetup-at-trap-vegan/
LOCATION:Trap Vegan\, 20198 Livernois\, Detroit\, MI 48221
ATTACH;FMTTYPE=image/jpeg:https://vegmichigan.org/wp-content/uploads/2024/06/trap-vegan-scaled.jpg
END:VEVENT
END:VCALENDAR