BEGIN:VCALENDAR
VERSION:2.0
PRODID:-//VegMichigan - ECPv5.16.1.1//NONSGML v1.0//EN
CALSCALE:GREGORIAN
METHOD:PUBLISH
X-ORIGINAL-URL:https://vegmichigan.org
X-WR-CALDESC:Events for VegMichigan
REFRESH-INTERVAL;VALUE=DURATION:PT1H
X-Robots-Tag:noindex
X-PUBLISHED-TTL:PT1H
BEGIN:VTIMEZONE
TZID:America/New_York
BEGIN:DAYLIGHT
TZOFFSETFROM:-0500
TZOFFSETTO:-0400
TZNAME:EDT
DTSTART:20240310T070000
END:DAYLIGHT
BEGIN:STANDARD
TZOFFSETFROM:-0400
TZOFFSETTO:-0500
TZNAME:EST
DTSTART:20241103T060000
END:STANDARD
END:VTIMEZONE
BEGIN:VEVENT
DTSTART;TZID=America/New_York:20240619T180000
DTEND;TZID=America/New_York:20240619T193000
DTSTAMP:20260424T063842
CREATED:20240531T172531Z
LAST-MODIFIED:20240531T172531Z
UID:13782-1718820000-1718825400@vegmichigan.org
SUMMARY:MADISON HEIGHTS MEETUP AT IMA
DESCRIPTION:MADISON HEIGHTS MEETUP AT IMA \nJoin us at Ima’s Madison Heights location. Udon noodles served in deeply flavorful pork-free broths\, with an abundance of fresh vegetables and an array of unique garnishes are a customer favorite alongside a large menu of signature ramen and noodle soups. Check it out and see if you come away with a customer favorite of your own! \nRSVP REQUIRED – RSVP on our Meetup page – https://www.meetup.com/vegmichigan-metro-detroit-meetup/events/301299551/?isFirstPublish=true
URL:https://vegmichigan.org/event/madison-heights-meetup-at-ima/
LOCATION:Ima\, 32203 John R Rd\, Madison Heights\, MI 48071
ATTACH;FMTTYPE=image/png:https://vegmichigan.org/wp-content/uploads/2024/05/Screenshot-2024-05-28-at-2.45.05-PM.png
END:VEVENT
END:VCALENDAR