BEGIN:VCALENDAR
VERSION:2.0
PRODID:-//VegMichigan - ECPv5.16.1.1//NONSGML v1.0//EN
CALSCALE:GREGORIAN
METHOD:PUBLISH
X-WR-CALNAME:VegMichigan
X-ORIGINAL-URL:https://vegmichigan.org
X-WR-CALDESC:Events for VegMichigan
REFRESH-INTERVAL;VALUE=DURATION:PT1H
X-Robots-Tag:noindex
X-PUBLISHED-TTL:PT1H
BEGIN:VTIMEZONE
TZID:America/New_York
BEGIN:DAYLIGHT
TZOFFSETFROM:-0500
TZOFFSETTO:-0400
TZNAME:EDT
DTSTART:20240310T070000
END:DAYLIGHT
BEGIN:STANDARD
TZOFFSETFROM:-0400
TZOFFSETTO:-0500
TZNAME:EST
DTSTART:20241103T060000
END:STANDARD
END:VTIMEZONE
BEGIN:VEVENT
DTSTART;VALUE=DATE:20240626
DTEND;VALUE=DATE:20240627
DTSTAMP:20260424T063824
CREATED:20240423T191454Z
LAST-MODIFIED:20240507T202454Z
UID:13536-1719360000-1719446399@vegmichigan.org
SUMMARY:PRESENTATION FOR THE UNIVERSITY COMMONS CONDOMINIUMS COMMUNITY
DESCRIPTION:PRESENTATION FOR THE UNIVERSITY COMMONS CONDOMINIUMS COMMUNITY\n\n\nVegMichigan will provide a talk about the environmental benefits of eating plant-based\, a plant-based tasting\, and people who are new to plant-based eating will be able to sign-up for our 30-day plant-based pledge.
URL:https://vegmichigan.org/event/13536/
CATEGORIES:A2Zero webpage
ATTACH;FMTTYPE=image/jpeg:https://vegmichigan.org/wp-content/uploads/2024/04/Plant-Based-for-the-Planet-scaled.jpeg
END:VEVENT
END:VCALENDAR