BEGIN:VCALENDAR
VERSION:2.0
PRODID:-//VegMichigan - ECPv5.16.1.1//NONSGML v1.0//EN
CALSCALE:GREGORIAN
METHOD:PUBLISH
X-ORIGINAL-URL:https://vegmichigan.org
X-WR-CALDESC:Events for VegMichigan
REFRESH-INTERVAL;VALUE=DURATION:PT1H
X-Robots-Tag:noindex
X-PUBLISHED-TTL:PT1H
BEGIN:VTIMEZONE
TZID:America/New_York
BEGIN:DAYLIGHT
TZOFFSETFROM:-0500
TZOFFSETTO:-0400
TZNAME:EDT
DTSTART:20240310T070000
END:DAYLIGHT
BEGIN:STANDARD
TZOFFSETFROM:-0400
TZOFFSETTO:-0500
TZNAME:EST
DTSTART:20241103T060000
END:STANDARD
END:VTIMEZONE
BEGIN:VEVENT
DTSTART;TZID=America/New_York:20240627T180000
DTEND;TZID=America/New_York:20240627T193000
DTSTAMP:20260424T063842
CREATED:20240604T144301Z
LAST-MODIFIED:20240604T144301Z
UID:13786-1719511200-1719516600@vegmichigan.org
SUMMARY:ANN ARBOR MEETUP AT THE BLUE NILE
DESCRIPTION:ANN ARBOR MEETUP AT THE BLUE NILE \nExperience a traditional Ethiopian feast at Blue Nile\, with a variety of incredible\, rich dishes\, coffee\, and tea. \nEverything in their Vegetarian Feast is fully plant-based and delicious! \nRSVP Required! RSVP here – https://www.meetup.com/vegmichigan-greater-ann-arbor-area/events/301368506/?isFirstPublish=true
URL:https://vegmichigan.org/event/ann-arbor-meetup-at-the-blue-nile/
LOCATION:The Blue Nile\, 221 E Washington St\, Ann Arbor\, MI 48104
ATTACH;FMTTYPE=image/png:https://vegmichigan.org/wp-content/uploads/2024/06/Blue-Nile.png
END:VEVENT
END:VCALENDAR