BEGIN:VCALENDAR
VERSION:2.0
PRODID:-//VegMichigan - ECPv5.16.1.1//NONSGML v1.0//EN
CALSCALE:GREGORIAN
METHOD:PUBLISH
X-WR-CALNAME:VegMichigan
X-ORIGINAL-URL:https://vegmichigan.org
X-WR-CALDESC:Events for VegMichigan
REFRESH-INTERVAL;VALUE=DURATION:PT1H
X-Robots-Tag:noindex
X-PUBLISHED-TTL:PT1H
BEGIN:VTIMEZONE
TZID:America/New_York
BEGIN:DAYLIGHT
TZOFFSETFROM:-0500
TZOFFSETTO:-0400
TZNAME:EDT
DTSTART:20240310T070000
END:DAYLIGHT
BEGIN:STANDARD
TZOFFSETFROM:-0400
TZOFFSETTO:-0500
TZNAME:EST
DTSTART:20241103T060000
END:STANDARD
END:VTIMEZONE
BEGIN:VEVENT
DTSTART;TZID=America/New_York:20240717T140000
DTEND;TZID=America/New_York:20240717T153000
DTSTAMP:20260424T081557
CREATED:20240625T181356Z
LAST-MODIFIED:20240625T181356Z
UID:14106-1721224800-1721230200@vegmichigan.org
SUMMARY:MONTHLY ANN ARBOR MEETUP AT LUCKY KITCHEN
DESCRIPTION:MONTHLY ANN ARBOR MEETUP AT LUCKY KITCHEN\n\nLet’s meet for Chinese food!\n\nLucky Kitchen specializes in steaming vegetables and cooking dishes without oil\, MSG\, salt\, or sugar. And all the veggie items marked on their menu are also vegan. Yum!\n\nRSVP here – https://www.meetup.com/vegmichigan-greater-ann-arbor-area/events/301784385/?isFirstPublish=true
URL:https://vegmichigan.org/event/monthly-ann-arbor-meetup-at-lucky-kitchen/
CATEGORIES:Ann Arbor Pledge
ATTACH;FMTTYPE=image/png:https://vegmichigan.org/wp-content/uploads/2024/06/lucky-kitchen.png
END:VEVENT
END:VCALENDAR